BEGIN:VCALENDAR
VERSION:2.0
PRODID:-//ChamberMaster//Event Calendar 2.0//EN
METHOD:PUBLISH
X-PUBLISHED-TTL:P3D
REFRESH-INTERVAL:P3D
CALSCALE:GREGORIAN
BEGIN:VEVENT
DTSTART:20160318T130000Z
DTEND:20160318T140000Z
X-MICROSOFT-CDO-ALLDAYEVENT:FALSE
SUMMARY:Latest Treatments for Knee Pain
DESCRIPTION:Learn about the causes of knee pain and the newest ways to reduce it using non-surgical treatment options. Orthopaedic Surgeon\, James Bumgardner\, MD\, and Grand View Joint Coordinator\, Janice Hunsberger\, RN\, will also discuss the latest advances in minimally invasive knee replacement. Refreshments will be provided.
X-ALT-DESC;FMTTYPE=text/html:Learn about the causes of knee pain and the newest ways to reduce it using non-surgical treatment options. Orthopaedic Surgeon\, James Bumgardner\, MD\, and Grand View Joint Coordinator\, Janice Hunsberger\, RN\, will also discuss the latest advances in minimally invasive knee replacement. Refreshments will be provided.
LOCATION:Montgomeryville Wegmans\, Conference Room 500\, Montgomery Mall North Wales\, PA 19454
UID:e.2385.1522
SEQUENCE:3
DTSTAMP:20260421T123415Z
URL:https://business.chambergmc.org/events/details/latest-treatments-for-knee-pain-03-18-2016-1522
END:VEVENT

END:VCALENDAR
