BEGIN:VCALENDAR
VERSION:2.0
PRODID:-//ChamberMaster//Event Calendar 2.0//EN
METHOD:PUBLISH
X-PUBLISHED-TTL:P3D
REFRESH-INTERVAL:P3D
CALSCALE:GREGORIAN
BEGIN:VEVENT
DTSTART:20181021T123000Z
DTEND:20181021T143000Z
X-MICROSOFT-CDO-ALLDAYEVENT:FALSE
SUMMARY:Laurel House 5K DASH Against Domestic Violence
DESCRIPTION:In recognition of Domestic Violence Awareness Month we invite you to Join us for our 19th annual 5K DASH Against Domestic Violence. Enjoy a crisp October morning run or walk along a certified course that winds through Upper Gwynedd Township and North Wales Borough. We will also have kids activities\, live music from Noise with the Boys\, and plenty of refreshments! Family\, friends & 4 legged friends welcomed! Proceeds from the event will go directly to support Laurel House's domestic violence shelter and supportive services. Each year Laurel House advocates provide life-saving services to over 1700 individuals in the community who are impacted by domestic violence.
X-ALT-DESC;FMTTYPE=text/html:In recognition of Domestic Violence Awareness Month we invite you to Join us for our 19th annual 5K DASH Against Domestic Violence. Enjoy a crisp October morning run or walk along a certified course that winds through Upper Gwynedd Township and North Wales Borough. We will also have kids activities\, live music from Noise with the Boys\, and plenty of refreshments! Family\, friends &amp\; 4 legged friends welcomed! Proceeds from the event will go directly to support Laurel House&rsquo\;s domestic violence shelter and supportive services. Each year Laurel House advocates provide life-saving services to over 1700 individuals in the community who are impacted by domestic violence.
LOCATION:Upper Gwynedd Township Building 1 Parkside Place North Wales\, PA 19454
UID:e.2385.8010
SEQUENCE:3
DTSTAMP:20260422T014633Z
URL:https://business.chambergmc.org/events/details/laurel-house-5k-dash-against-domestic-violence-8010
END:VEVENT

END:VCALENDAR
