BEGIN:VCALENDAR
VERSION:2.0
PRODID:-//ChamberMaster//Event Calendar 2.0//EN
METHOD:PUBLISH
X-PUBLISHED-TTL:P3D
REFRESH-INTERVAL:P3D
CALSCALE:GREGORIAN
BEGIN:VEVENT
DTSTART:20190602T160000Z
DTEND:20190602T190000Z
X-MICROSOFT-CDO-ALLDAYEVENT:FALSE
SUMMARY:Floral & Hardy Lavender Day
DESCRIPTION:Join us for our THIRD ANNUAL LAVENDER DAY at Floral & Hardy of Skippack\, co-hosted by The Body Serene Day Spa.  We're featuring lavender\, an herb well known for its health benefits\, beautiful color and soothing aroma.  Lavender is also a great pollinator plant\, attracting many bees and butterflies to gardens.\n\nLavender products will be available for purchase the entire day!! We'll have lavender plants\, candles\, lotions\, soaps\, bath salts\, essential oil\, portable diffusers\, eye pillows\, neck wraps and dried lavender for sale.  Pick up a FREE lavender sachet or lavender plant giveaway (limited supply of each   first come\, first serve)! \n\n\n\nPlease click here for details and to register: https://floralandhardyofskippack.com/events/lavender-day/
X-ALT-DESC;FMTTYPE=text/html:<p style="margin-left:0px\; margin-right:0px\; text-align:justify"><span style="font-family:arial\,helvetica\,sans-serif">Join us for our <strong>THIRD ANNUAL LAVENDER DAY </strong>at Floral &amp\; Hardy of Skippack\, co-hosted by The Body Serene Day Spa.&nbsp\; We&rsquo\;re featuring lavender\, an herb well known for its health benefits\, beautiful color and soothing aroma.&nbsp\; Lavender is also a great pollinator plant\, attracting many bees and butterflies to gardens.</span></p>\n\n<p style="margin-left:0px\; margin-right:0px\; text-align:justify"><span style="font-family:arial\,helvetica\,sans-serif">Lavender products will be available for purchase the entire day!! We&rsquo\;ll have lavender plants\, candles\, lotions\, soaps\, bath salts\, essential oil\, portable diffusers\, eye pillows\, neck wraps and dried lavender for sale.&nbsp\; Pick up a FREE lavender sachet or lavender plant giveaway (limited supply of each &ndash\; first come\, first serve)!&nbsp\;<br />\n<br />\nPlease click here for details and to register:&nbsp\;<a href="https://floralandhardyofskippack.com/events/lavender-day/">https://floralandhardyofskippack.com/events/lavender-day/</a></span></p>\n
LOCATION:Floral & Hardy 4007 Skippack Pike Skippack\, PA 19474
UID:e.2385.8686
SEQUENCE:3
DTSTAMP:20260422T123947Z
URL:https://business.chambergmc.org/events/details/lavender-day-8686
END:VEVENT

END:VCALENDAR
