BEGIN:VCALENDAR
VERSION:2.0
PRODID:-//ChamberMaster//Event Calendar 2.0//EN
METHOD:PUBLISH
X-PUBLISHED-TTL:P3D
REFRESH-INTERVAL:P3D
CALSCALE:GREGORIAN
BEGIN:VEVENT
DTSTART:20190905T223000Z
DTEND:20190905T234500Z
X-MICROSOFT-CDO-ALLDAYEVENT:FALSE
SUMMARY:Floral & Hardy Lavender Ladies Night
DESCRIPTION:Grab your friends and join us for a Lavender Ladies Night Make & Take activity with lavender essential oil!! Learn about the benefits of lavender and have fun making 3 lavender beauty products including\, lavender sugar scrub\, eyelash growth serum and allergy roller ball.  We'll also be giving a short presentation about Young Living Essential Oils during our Make & Take activity.  Have fun sampling different oils afterwards! \n\nEnjoy complimentary wine and snacks (feel free to bring your own favorite beverage).  Come early to browse around our garden center and gift shop.  Cost is $25 plus tax.\n\nPlease RSVP: https://floralandhardyofskippack.com/events/lavender-ladies-night-2/
X-ALT-DESC;FMTTYPE=text/html:<p style="text-align:justify">Grab your friends and join us for a Lavender Ladies Night Make &amp\; Take activity with lavender essential oil!! Learn about the benefits of lavender and have fun making 3 lavender beauty products including\, lavender sugar scrub\, eyelash growth serum and allergy roller ball.&nbsp\; We&rsquo\;ll also be giving a short presentation about Young Living Essential Oils during our Make &amp\; Take activity.&nbsp\; Have fun sampling different oils afterwards!&nbsp\;</p>\n\n<p style="text-align:justify">Enjoy complimentary wine and snacks (feel free to bring your own favorite beverage).&nbsp\; Come early to browse around our garden center and gift shop.&nbsp\; Cost is $25 plus tax.</p>\n\n<p>Please RSVP:&nbsp\;<a href="https://floralandhardyofskippack.com/events/lavender-ladies-night-2/">https://floralandhardyofskippack.com/events/lavender-ladies-night-2/</a></p>\n
LOCATION:Floral & Hardy 4007 Skippack Pike Skippack\, PA 19474
UID:e.2385.10058
SEQUENCE:3
DTSTAMP:20260423T182158Z
URL:https://business.chambergmc.org/events/details/lavender-ladies-night-10058
END:VEVENT

END:VCALENDAR
