BEGIN:VCALENDAR
VERSION:2.0
PRODID:-//ChamberMaster//Event Calendar 2.0//EN
METHOD:PUBLISH
X-PUBLISHED-TTL:P3D
REFRESH-INTERVAL:P3D
CALSCALE:GREGORIAN
BEGIN:VEVENT
DTSTART:20190130T230000Z
DTEND:20190131T010000Z
X-MICROSOFT-CDO-ALLDAYEVENT:FALSE
SUMMARY:Lecture and Author Meet & Greet: Victoria Johnson\, American Eden: David Hosack\, Botany\, and Medicine in the Garden of the Early Republic
DESCRIPTION:This illustrated lecture by author and historian Victoria Johnson features her new book\, American Eden\, which both the Wall Street Journal and Ron Chernow (Alexander Hamilton) have called "captivating." When Dr. David Hosack tilled the nation's first public botanical garden in the Manhattan soil more than 200 years ago\, he didn't just dramatically alter the New York landscape\; he left a monumental legacy of advocacy for public health and wide-ranging support for the sciences. Today\, his former garden is the site of Rockefeller Center.\n\n\n\nJoin Victoria Johnson as she eloquently chronicles Hosack's tireless career to reveal the breadth of his impact. The result is a lush portrait of the man who gave voice to a new\, deeply American understanding of the powers and perils of nature. American Eden has been named a finalist for the 2018 National Book Award in nonfiction. American Eden will be available for purchase on site.\n\n\n\nThis lecture is made possible thanks to a gracious gift given by Marie Louise and Eugene Jackson.\n\nRegistration for the event is through the Pennsylvania Horticulture Society. Information: jfisher@pennhort.org or 215-988-8883.
X-ALT-DESC;FMTTYPE=text/html:<span style="font-size:14px"><span style="font-family:arial\,helvetica\,sans-serif">This illustrated lecture by author and historian Victoria Johnson features her new book\,&nbsp\;<em>American Eden</em>\, which both the&nbsp\;Wall Street Journal&nbsp\;and Ron Chernow (Alexander Hamilton) have called &ldquo\;captivating.&rdquo\; When Dr. David Hosack tilled the nation&rsquo\;s first public botanical garden in the Manhattan soil more than 200 years ago\, he didn&rsquo\;t just dramatically alter the New York landscape\; he left a monumental legacy of advocacy for public health and wide-ranging support for the sciences. Today\, his former garden is the site of Rockefeller Center.<br />\n<br />\nJoin Victoria Johnson as she eloquently chronicles Hosack&rsquo\;s tireless career to reveal the breadth of his impact. The result is a lush portrait of the man who gave voice to a new\, deeply American understanding of the powers and perils of nature.&nbsp\;American Eden&nbsp\;has been named a finalist for the 2018 National Book Award in nonfiction. American Eden will be available for purchase on site.<br />\n<br />\nThis lecture is made possible thanks to a gracious gift given by Marie Louise and Eugene Jackson.<br />\nRegistration for the event is through the <a href="https://phsonline.org/" target="_blank">Pennsylvania Horticulture Society</a>. Information: <a href="mailto:jfisher@pennhort.org">jfisher@pennhort.org</a> or 215-988-8883.</span></span>
LOCATION:Ambler Campus Learning Center\, Temple University Ambler\, 580 Meetinghouse Road\, Ambler\, PA 19002
UID:e.2385.8135
SEQUENCE:3
DTSTAMP:20260422T054017Z
URL:https://business.chambergmc.org/events/details/lecture-and-author-meet-greet-victoria-johnson-american-eden-david-hosack-botany-and-medicine-in-the-garden-of-the-early-republic-8135
END:VEVENT

END:VCALENDAR
