BEGIN:VCALENDAR
VERSION:2.0
PRODID:-//ChamberMaster//Event Calendar 2.0//EN
METHOD:PUBLISH
X-PUBLISHED-TTL:P3D
REFRESH-INTERVAL:P3D
CALSCALE:GREGORIAN
BEGIN:VEVENT
DTSTART:20180629T220000Z
DTEND:20180630T020000Z
X-MICROSOFT-CDO-ALLDAYEVENT:FALSE
SUMMARY:Live Comedy Showcase Hosted by LaTice Comedy
DESCRIPTION:Join us for our first Comedy Showcase Hosted by LaTice Comedy! The fun will start at 6pm with Fry's Catering Food Truck serving up some amazing food. Our comedy showcase starts at 8:30 pm and is $15 per ticket (includes a $5 drink ticket). Call ahead to reserve tables & tickets! Featuring- The hilarious Peggy O'Leary! Delco's own!! Headliner Keith Purnell will be killin' it with his sarcastically funny wit! Comedy Showcase   8:30-10pm Food Truck   Fry's Catering 6-9pm
X-ALT-DESC;FMTTYPE=text/html:Join us for our first Comedy Showcase Hosted by LaTice Comedy! The fun will start at 6pm with Fry&#39\;s Catering Food Truck serving up some amazing food. Our comedy showcase starts at 8:30 pm and is $15 per ticket (includes a $5 drink ticket). Call ahead to reserve tables &amp\; tickets! Featuring- The hilarious Peggy O&#39\;Leary! Delco&#39\;s own!! Headliner Keith Purnell will be killin&#39\; it with his sarcastically funny wit! Comedy Showcase &ndash\; 8:30-10pm Food Truck &ndash\; Fry&rsquo\;s Catering 6-9pm
LOCATION:Stone and Key Cellars 435 Doylestown Road Montgomeryville\, PA 18936
UID:e.2385.7706
SEQUENCE:3
DTSTAMP:20260421T201715Z
URL:https://business.chambergmc.org/events/details/live-comedy-showcase-hosted-by-latice-comedy-7706
END:VEVENT

END:VCALENDAR
