BEGIN:VCALENDAR
VERSION:2.0
PRODID:-//ChamberMaster//Event Calendar 2.0//EN
METHOD:PUBLISH
X-PUBLISHED-TTL:P3D
REFRESH-INTERVAL:P3D
CALSCALE:GREGORIAN
BEGIN:VEVENT
DTSTART:20190504T000000Z
DTEND:20190504T030000Z
X-MICROSOFT-CDO-ALLDAYEVENT:FALSE
SUMMARY:LIVE MUSIC
DESCRIPTION:May Brewhouse Sessions Continue with DT and the Burnerz! Classic Rock/Rock/Blues!
X-ALT-DESC;FMTTYPE=text/html:May Brewhouse Sessions Continue with DT and the Burnerz! Classic Rock/Rock/Blues!
LOCATION:Brothers Kershner Brewing Co. 4119 Skippack Pike Skippack\, PA 19474
UID:e.2385.8717
SEQUENCE:3
DTSTAMP:20260422T111925Z
URL:https://business.chambergmc.org/events/details/live-music-05-03-2019-8717
END:VEVENT

END:VCALENDAR
