BEGIN:VCALENDAR
VERSION:2.0
PRODID:-//ChamberMaster//Event Calendar 2.0//EN
METHOD:PUBLISH
X-PUBLISHED-TTL:P3D
REFRESH-INTERVAL:P3D
CALSCALE:GREGORIAN
BEGIN:VEVENT
DTSTART:20190505T000000Z
DTEND:20190505T030000Z
X-MICROSOFT-CDO-ALLDAYEVENT:FALSE
SUMMARY:LIVE MUSIC
DESCRIPTION:May Brewhouse Session Saturday night headliner: The Goose Creek Pioneers! Folk/Bluegrass/Foot tappin fun!
X-ALT-DESC;FMTTYPE=text/html:May Brewhouse Session Saturday night headliner: The Goose Creek Pioneers! Folk/Bluegrass/Foot tappin fun!
LOCATION:
UID:e.2385.8718
SEQUENCE:3
DTSTAMP:20260422T111837Z
URL:https://business.chambergmc.org/events/details/live-music-05-04-2019-8718
END:VEVENT

END:VCALENDAR
