BEGIN:VCALENDAR
VERSION:2.0
PRODID:-//ChamberMaster//Event Calendar 2.0//EN
METHOD:PUBLISH
X-PUBLISHED-TTL:P3D
REFRESH-INTERVAL:P3D
CALSCALE:GREGORIAN
BEGIN:VEVENT
DTSTART:20190706T000000Z
DTEND:20190706T030000Z
X-MICROSOFT-CDO-ALLDAYEVENT:FALSE
SUMMARY:LIVE MUSIC
DESCRIPTION:Come join and enjoy Live Music with cold craft!!
X-ALT-DESC;FMTTYPE=text/html:Come join and enjoy Live Music with cold craft!!
LOCATION:Brothers Kershner Brewing Co. 4119 Skippack Pike Skippack\, PA 19474
UID:e.2385.8833
SEQUENCE:3
DTSTAMP:20260422T140918Z
URL:https://business.chambergmc.org/events/details/live-music-07-05-2019-8833
END:VEVENT

END:VCALENDAR
