BEGIN:VCALENDAR
VERSION:2.0
PRODID:-//ChamberMaster//Event Calendar 2.0//EN
METHOD:PUBLISH
X-PUBLISHED-TTL:P3D
REFRESH-INTERVAL:P3D
CALSCALE:GREGORIAN
BEGIN:VEVENT
DTSTART:20190502T230000Z
DTEND:20190503T020000Z
X-MICROSOFT-CDO-ALLDAYEVENT:FALSE
SUMMARY:LIVE MUSIC
DESCRIPTION:May Brewhouse Sessions kick off with Gabe Delp\, Local singer/song writer!
X-ALT-DESC;FMTTYPE=text/html:May Brewhouse Sessions kick off with Gabe Delp\, Local singer/song writer!
LOCATION:Brothers Kershner Brewing Co. 4119 Skippack Pike Skippack\, PA 19474
UID:e.2385.8716
SEQUENCE:3
DTSTAMP:20260422T111624Z
URL:https://business.chambergmc.org/events/details/live-music-8716
END:VEVENT

END:VCALENDAR
