BEGIN:VCALENDAR
VERSION:2.0
PRODID:-//ChamberMaster//Event Calendar 2.0//EN
METHOD:PUBLISH
X-PUBLISHED-TTL:P3D
REFRESH-INTERVAL:P3D
CALSCALE:GREGORIAN
BEGIN:VEVENT
DTSTART:20190216T230000Z
DTEND:20190217T030000Z
X-MICROSOFT-CDO-ALLDAYEVENT:FALSE
SUMMARY:Love is the Mood - Romantic Dinner and Show
DESCRIPTION:"LOVE IS THE MOOD" Dinner and Show\n\nEnjoy an Intimate\, Romantic\, Candlelit\, Four Course Dinner\, with Champagne and Chocolate along with the Live Sultry sounds of Philly's own Malyka Sankofa and V. Shayne Frederick on February 16\, 2019.  Seating begins at 6:00 PM\n\nHosted by S&B Event Concepts and Catering\, 25 Bridge Street\, Collegeville\, PA  19426  267-263-2616\n\nCosts $65-75 \n\nPlease \n\nRSVP\; http://www.snbevents.com/events
X-ALT-DESC;FMTTYPE=text/html:<span style="font-family:roboto\,sans-serif">&quot\;LOVE IS THE MOOD&quot\; Dinner and Show</span><br />\n<span style="font-family:roboto\,sans-serif">Enjoy an Intimate\, Romantic\, Candlelit\, Four Course Dinner\, with Champagne and Chocolate along with the Live Sultry sounds of Philly&#39\;s own Malyka Sankofa and V. Shayne Frederick on February 16\, 2019.&nbsp\; Seating begins at 6:00 PM</span><br />\n<span style="font-family:roboto\,sans-serif">Hosted by S&amp\;B Event Concepts and Catering\, 25 Bridge Street\, Collegeville\, PA&nbsp\; 19426&nbsp\; 267-263-2616</span><br />\n<span style="font-family:roboto\,sans-serif">Costs $65-75&nbsp\;</span><br />\n<span style="font-family:roboto\,sans-serif">Please&nbsp\;</span><br />\n<span style="font-family:roboto\,sans-serif">RSVP\;&nbsp\;</span><a href="http://www.snbevents.com/events" style="color: rgb(100\, 50\, 130)\; font-family: Roboto\, sans-serif\;">http://www.snbevents.com/events</a>
LOCATION:S&B Event Concepts and Catering\, 25 Bridge Street\, Collegeville\, PA 19426
UID:e.2385.8171
SEQUENCE:3
DTSTAMP:20260422T070905Z
URL:https://business.chambergmc.org/events/details/love-is-the-mood-romantic-dinner-and-show-02-16-2019-8171
END:VEVENT

END:VCALENDAR
