BEGIN:VCALENDAR
VERSION:2.0
PRODID:-//ChamberMaster//Event Calendar 2.0//EN
METHOD:PUBLISH
X-PUBLISHED-TTL:P3D
REFRESH-INTERVAL:P3D
CALSCALE:GREGORIAN
BEGIN:VEVENT
DTSTART:20190122T000000Z
DTEND:20190122T020000Z
X-MICROSOFT-CDO-ALLDAYEVENT:FALSE
SUMMARY:Make Art Monday - Victorian Valentines
DESCRIPTION:On this the third Monday night of the month\, you will be creating a handmade valentine for your special someone\, using cut paper\, lace\, beads\, flowers etc. Inspired by the elaborate cards of the Victorian Era. We supply the materials you supply the imagination. Cost for the evening is $5.00 to defray our costs.
X-ALT-DESC;FMTTYPE=text/html:On this the third Monday night of the month\, you will be creating a handmade valentine for your special someone\, using cut paper\, lace\, beads\, flowers etc. Inspired by the elaborate cards of the Victorian Era. We supply the materials you supply the imagination. Cost for the evening is $5.00 to defray our costs.
LOCATION:125 N. Main Street\, North Wales\, PA Entrance & Parking are behind the building
UID:e.2385.8138
SEQUENCE:3
DTSTAMP:20260422T053316Z
URL:https://business.chambergmc.org/events/details/make-art-monday-victorian-valentines-8138
END:VEVENT

END:VCALENDAR
