BEGIN:VCALENDAR
VERSION:2.0
PRODID:-//ChamberMaster//Event Calendar 2.0//EN
METHOD:PUBLISH
X-PUBLISHED-TTL:P3D
REFRESH-INTERVAL:P3D
CALSCALE:GREGORIAN
BEGIN:VEVENT
DTSTART:20250301T150000Z
DTEND:20250301T203000Z
X-MICROSOFT-CDO-ALLDAYEVENT:FALSE
SUMMARY:Maple Sugaring at Peter Wentz Farmstead
DESCRIPTION:Join our farmers as they create maple sugar from trees right here at the Farmstead! Watch as they tap the trees\, collect the sap\, and create the syrup. Learn about the Indigenous origins of maple sugaring and how the process has continued through to today. Once your mouth starts watering\, stop by All Belgium's food truck and enjoy one of their delicious Belgian waffles! This program is weather dependent. All ages\; free
X-ALT-DESC;FMTTYPE=text/html:Join our farmers as they create maple sugar from trees right here at the Farmstead! Watch as they tap the trees\, collect the sap\, and create the syrup. Learn about the Indigenous origins of maple sugaring and how the process has continued through to today. Once your mouth starts watering\, stop by All Belgium&rsquo\;s food truck and enjoy one of their delicious Belgian waffles! This program is weather dependent. All ages\; free
LOCATION:Peter Wentz Farmstead 2030 Shearer Road Lansdale\, PA 19446
UID:e.2385.12130
SEQUENCE:3
DTSTAMP:20260420T095917Z
URL:https://business.chambergmc.org/events/details/maple-sugaring-at-peter-wentz-farmstead-12130
END:VEVENT

END:VCALENDAR
