BEGIN:VCALENDAR
VERSION:2.0
PRODID:-//ChamberMaster//Event Calendar 2.0//EN
METHOD:PUBLISH
X-PUBLISHED-TTL:P3D
REFRESH-INTERVAL:P3D
CALSCALE:GREGORIAN
BEGIN:VEVENT
DTSTART:20221128T150000Z
DTEND:20221128T200000Z
X-MICROSOFT-CDO-ALLDAYEVENT:FALSE
SUMMARY:Mariner Finance Career Fair
DESCRIPTION:
X-ALT-DESC;FMTTYPE=text/html:
LOCATION:Mariner Finance 4275 County Line Rd. Suite 25 Chalfont\, PA 18914
UID:e.2385.11549
SEQUENCE:3
DTSTAMP:20260421T163926Z
URL:https://business.chambergmc.org/events/details/mariner-finance-career-fair-11549
END:VEVENT

END:VCALENDAR
