BEGIN:VCALENDAR
VERSION:2.0
PRODID:-//ChamberMaster//Event Calendar 2.0//EN
METHOD:PUBLISH
X-PUBLISHED-TTL:P3D
REFRESH-INTERVAL:P3D
CALSCALE:GREGORIAN
BEGIN:VEVENT
DTSTART:20171104T140000Z
DTEND:20171104T190000Z
X-MICROSOFT-CDO-ALLDAYEVENT:FALSE
SUMMARY:Market Day Craft Event
DESCRIPTION:Join Christ Lutheran Church-Kulpsville for their Market Day Craft and Pie Sale. Just in time to purchase your holiday gifts and buy a pie or two for the holiday meal.  All types of handmade items and art will be sold by local artists.  The event will also include a whole pie sale\, raffle baskets\, and refreshments for purchase.  All raffle profits will benefit The Gift of Life Donor Program.
X-ALT-DESC;FMTTYPE=text/html:Join Christ Lutheran Church-Kulpsville for their Market Day Craft and Pie Sale. Just in time to purchase your holiday gifts and buy a pie or two for the holiday meal.&nbsp\; All types of handmade items and art will be sold by local artists.&nbsp\; The event will also include a whole pie sale\, raffle baskets\, and refreshments for purchase.&nbsp\; All raffle profits will benefit The Gift of Life Donor Program.
LOCATION:Christ Lutheran Church\, 2211 Mainland Rd\, Harleysville\, PA 19438
UID:e.2385.2606
SEQUENCE:3
DTSTAMP:20260421T122842Z
URL:https://business.chambergmc.org/events/details/market-day-craft-event-11-04-2017-2606
END:VEVENT

END:VCALENDAR
