BEGIN:VCALENDAR
VERSION:2.0
PRODID:-//ChamberMaster//Event Calendar 2.0//EN
METHOD:PUBLISH
X-PUBLISHED-TTL:P3D
REFRESH-INTERVAL:P3D
CALSCALE:GREGORIAN
BEGIN:VEVENT
DTSTART:20200608T123000Z
DTEND:20200608T130000Z
X-MICROSOFT-CDO-ALLDAYEVENT:FALSE
SUMMARY:Market Update
DESCRIPTION:Edward Jones Market Update via teleconference.  A brief presentation on current events in the market and economy.
X-ALT-DESC;FMTTYPE=text/html:<span style="background-color:rgb(255\, 255\, 255)\; color:rgb(51\, 51\, 51)\; font-family:sans-serif\,arial\,verdana\,trebuchet ms\; font-size:13px">Edward Jones Market Update via teleconference.&nbsp\; A brief presentation on current events in the market and economy.</span>
LOCATION:This presentation will be via teleconference. Dial-in Number: 866-528-2256. Passcode: 5097707
UID:e.2385.10359
SEQUENCE:3
DTSTAMP:20260423T070320Z
URL:https://business.chambergmc.org/events/details/market-update-06-08-2020-10359
END:VEVENT

END:VCALENDAR
