BEGIN:VCALENDAR
VERSION:2.0
PRODID:-//ChamberMaster//Event Calendar 2.0//EN
METHOD:PUBLISH
X-PUBLISHED-TTL:P3D
REFRESH-INTERVAL:P3D
CALSCALE:GREGORIAN
BEGIN:VEVENT
DTSTART:20190228T233000Z
DTEND:20190301T003000Z
X-MICROSOFT-CDO-ALLDAYEVENT:FALSE
SUMMARY:Floral & Hardy Mason Jar Succulent Workshop I
DESCRIPTION:Make a miniature succulent terrarium inside a mason jar during this fun workshop!  We'll have all the necessary supplies for you\, including: mason jar\, stones\, sand\, soil\, moss\, decorative objects\, and  mini succulents.   Cost is $20 per person plus tax (total of $21.20). \n\n \nPlease RSVP: https://floralandhardyofskippack.com/events/mason-jar-succulent-workshop-i/
X-ALT-DESC;FMTTYPE=text/html:<div style="text-align:justify"><span style="background-color:transparent\; color:rgb(0\, 0\, 0)\; font-family:arial\,helvetica\,sans-serif\; font-size:13px">Make a miniature succulent terrarium inside a mason jar during this fun workshop!&nbsp\; We&rsquo\;ll have all the necessary supplies for you\, including: mason jar\, stones\, sand\, soil\, moss\, decorative objects\, and&nbsp\; mini succulents. &nbsp\; Cost is $20 per person plus tax (total of $21.20).&nbsp\;</span><br />\n&nbsp\;</div>\nPlease RSVP:&nbsp\;<a href="https://floralandhardyofskippack.com/events/mason-jar-succulent-workshop-i/">https://floralandhardyofskippack.com/events/mason-jar-succulent-workshop-i/</a>
LOCATION:Floral & Hardy 4007 Skippack Pike Skippack\, PA 19474
UID:e.2385.8175
SEQUENCE:3
DTSTAMP:20260422T065441Z
URL:https://business.chambergmc.org/events/details/mason-jar-succulent-workshop-i-8175
END:VEVENT

END:VCALENDAR
