BEGIN:VCALENDAR
VERSION:2.0
PRODID:-//ChamberMaster//Event Calendar 2.0//EN
METHOD:PUBLISH
X-PUBLISHED-TTL:P3D
REFRESH-INTERVAL:P3D
CALSCALE:GREGORIAN
BEGIN:VEVENT
DTSTART:20180105T213000Z
DTEND:20180105T233000Z
X-MICROSOFT-CDO-ALLDAYEVENT:FALSE
SUMMARY:McCaffrey's In-Store Beer Tasting
DESCRIPTION:Beer Tasting - 31st & Warton
X-ALT-DESC;FMTTYPE=text/html:Beer Tasting - 31st &amp\; Warton
LOCATION:Blue Bell McCaffrey's Beer Garden 1301 Skippack Pike Blue Bell PA 19422
UID:e.2385.2985
SEQUENCE:3
DTSTAMP:20260421T133214Z
URL:https://business.chambergmc.org/events/details/mccaffrey-s-in-store-beer-tasting-01-05-2018-2985
END:VEVENT

END:VCALENDAR
