BEGIN:VCALENDAR
VERSION:2.0
PRODID:-//ChamberMaster//Event Calendar 2.0//EN
METHOD:PUBLISH
X-PUBLISHED-TTL:P3D
REFRESH-INTERVAL:P3D
CALSCALE:GREGORIAN
BEGIN:VEVENT
DTSTART:20180112T213000Z
DTEND:20180112T233000Z
X-MICROSOFT-CDO-ALLDAYEVENT:FALSE
SUMMARY:McCaffrey's In-Store Beer Tasting
DESCRIPTION:Beer Tasting - Merchant du Vin
X-ALT-DESC;FMTTYPE=text/html:Beer Tasting - Merchant du Vin
LOCATION:McCaffrey's Blue Bell Beer Garden 1301 Skippack Pike Blue Bell\, PA
UID:e.2385.2986
SEQUENCE:3
DTSTAMP:20260421T133130Z
URL:https://business.chambergmc.org/events/details/mccaffrey-s-in-store-beer-tasting-01-12-2018-2986
END:VEVENT

END:VCALENDAR
