BEGIN:VCALENDAR
VERSION:2.0
PRODID:-//ChamberMaster//Event Calendar 2.0//EN
METHOD:PUBLISH
X-PUBLISHED-TTL:P3D
REFRESH-INTERVAL:P3D
CALSCALE:GREGORIAN
BEGIN:VEVENT
DTSTART:20180119T213000Z
DTEND:20180119T233000Z
X-MICROSOFT-CDO-ALLDAYEVENT:FALSE
SUMMARY:McCaffrey's In-Store Beer Tasting
DESCRIPTION:Beer Tasting - Conshohocken Brewing Co.
X-ALT-DESC;FMTTYPE=text/html:Beer Tasting - Conshohocken Brewing Co.
LOCATION:Blue Bell McCaffrey's Beer Garden 1301 Skippack Pike Blue Bell\, PA
UID:e.2385.2987
SEQUENCE:3
DTSTAMP:20260421T133154Z
URL:https://business.chambergmc.org/events/details/mccaffrey-s-in-store-beer-tasting-01-19-2018-2987
END:VEVENT

END:VCALENDAR
