BEGIN:VCALENDAR
VERSION:2.0
PRODID:-//ChamberMaster//Event Calendar 2.0//EN
METHOD:PUBLISH
X-PUBLISHED-TTL:P3D
REFRESH-INTERVAL:P3D
CALSCALE:GREGORIAN
BEGIN:VEVENT
DTSTART:20180126T213000Z
DTEND:20180126T233000Z
X-MICROSOFT-CDO-ALLDAYEVENT:FALSE
SUMMARY:McCaffrey's In-Store Beer Tasting
DESCRIPTION:Beer Tasting - 31st & Warton
X-ALT-DESC;FMTTYPE=text/html:Beer Tasting - 31st &amp\; Warton
LOCATION:Blue Bell McCaffrey's 1301 Skippack Pike Blue Bell\, PA
UID:e.2385.2988
SEQUENCE:3
DTSTAMP:20260421T133238Z
URL:https://business.chambergmc.org/events/details/mccaffrey-s-in-store-beer-tasting-01-26-2018-2988
END:VEVENT

END:VCALENDAR
