BEGIN:VCALENDAR
VERSION:2.0
PRODID:-//ChamberMaster//Event Calendar 2.0//EN
METHOD:PUBLISH
X-PUBLISHED-TTL:P3D
REFRESH-INTERVAL:P3D
CALSCALE:GREGORIAN
BEGIN:VEVENT
DTSTART:20180510T130000Z
DTEND:20180510T200000Z
X-MICROSOFT-CDO-ALLDAYEVENT:FALSE
SUMMARY:McCloskey Partner's 2018 HR Boot Camp
DESCRIPTION:McCloskey Partners\, LLC is offering\n\n \n\nCrash Course   HR BOOTCAMP!\n\n \n\nDesigned specifically for small-to-medium sized companies. \n\n \n\nIn attendance will be business owners\, professionals who handle HR as one of their varied responsibilities\, entry-level HR employees and managers that in addition to their other tasks handle HR.\n\n \n\nThis BootCamp covers the following areas and much more:\n\n                                                                                                                                                                                            ?    ?Recruiting for Results - The Hiring Process:\n\nUsing LinkedIn to find and retain the right employees\, advertising job orders\,\n\nreviewing resumes\, interviews\, new hire forms to\n\nensuring a\n\nReturn on Investment for NEO (New Hire Orientation)\n\n \n\nManaging Within the Law - Red Flags to watch out for\, MUST have policies and record retention\n\n \n\nThe importance of the HR Audit  and what to do with it once you conduct the audit. \n\n \n\nPerformance Management - Cut the emotion out!   It's not personal its business.   Coaching\, Developing\, Counseling\, Documenting\, Disciplining\, Delegating and the dreaded termination of employees.  Does it really have to end this way??\n\n \n\nLeave of Absence- Employee tells you they "may" need to go out on leave now what?  Family Medical Leave vs. Non-Family Medical Leave.\n\n \n\nCommunication / Conflict Resolution- Take the "sting out of your words" and effectively Communicate\; keys to retaining your most important assets  your employees.\n\n \n\nI am a manager\, now what?  Bridging the gap when employees are promoted within. \n\n \n\nDelivery Method:  Instructor-led classroom setting.   Presenting this program will be various Industry experts including Employment Attorneys\, LinkedIn Social Media experts\, Dr. Keith Miller\, Heather McCloskey\, CEO of McCloskey Partners\, Bridgette Drelling\, PHR\, SHRM-CP HRBP of McCloskey Partners. \n\n \n\nThis training has been approved for the following accreditation: HRCI / SHRM / CLE
X-ALT-DESC;FMTTYPE=text/html:<strong><span style="font-size:16.0pt">McCloskey Partners\, LLC is offering</span></strong><br />\n&nbsp\;<br />\n<strong><em><span style="font-size:16.0pt">Crash Course &ndash\; HR BOOTCAMP!</span></em></strong><br />\n&nbsp\;<br />\n<strong>Designed specifically for small-to-medium sized companies. </strong><br />\n&nbsp\;<br />\n<strong>In attendance will be business owners\, professionals who handle HR as one of their varied responsibilities\, entry-level HR employees and managers that in addition to their other tasks handle HR.</strong><br />\n&nbsp\;<br />\n<u>This BootCamp covers the following areas and much more:</u><br />\n&nbsp\;&nbsp\;&nbsp\;&nbsp\;&nbsp\;&nbsp\;&nbsp\;&nbsp\;&nbsp\;&nbsp\;&nbsp\;&nbsp\;&nbsp\;&nbsp\;&nbsp\;&nbsp\;&nbsp\;&nbsp\;&nbsp\;&nbsp\;&nbsp\;&nbsp\;&nbsp\;&nbsp\;&nbsp\;&nbsp\;&nbsp\;&nbsp\;&nbsp\;&nbsp\;&nbsp\;&nbsp\;&nbsp\;&nbsp\;&nbsp\;&nbsp\;&nbsp\;&nbsp\;&nbsp\;&nbsp\;&nbsp\;&nbsp\;&nbsp\;&nbsp\;&nbsp\;&nbsp\;&nbsp\;&nbsp\;&nbsp\;&nbsp\;&nbsp\;&nbsp\;&nbsp\;&nbsp\;&nbsp\;&nbsp\;&nbsp\;&nbsp\;&nbsp\;&nbsp\;&nbsp\;&nbsp\;&nbsp\;&nbsp\;&nbsp\;&nbsp\;&nbsp\;&nbsp\;&nbsp\;&nbsp\;&nbsp\;&nbsp\;&nbsp\;&nbsp\;&nbsp\;&nbsp\;&nbsp\;&nbsp\;&nbsp\;&nbsp\;&nbsp\;&nbsp\;&nbsp\;&nbsp\;&nbsp\;&nbsp\;&nbsp\;&nbsp\;&nbsp\;&nbsp\;&nbsp\;&nbsp\;&nbsp\;&nbsp\;&nbsp\;&nbsp\;&nbsp\;&nbsp\;&nbsp\;&nbsp\;&nbsp\;&nbsp\;&nbsp\;&nbsp\;&nbsp\;&nbsp\;&nbsp\;&nbsp\;&nbsp\;&nbsp\;&nbsp\;&nbsp\;&nbsp\;&nbsp\;&nbsp\;&nbsp\;&nbsp\;&nbsp\;&nbsp\;&nbsp\;&nbsp\;&nbsp\;&nbsp\;&nbsp\;&nbsp\;&nbsp\;&nbsp\;&nbsp\;&nbsp\;&nbsp\;&nbsp\;&nbsp\;&nbsp\;&nbsp\;&nbsp\;&nbsp\;&nbsp\;&nbsp\;&nbsp\;&nbsp\;&nbsp\;&nbsp\;&nbsp\;&nbsp\;&nbsp\;&nbsp\;&nbsp\;&nbsp\;&nbsp\;&nbsp\;&nbsp\;&nbsp\;&nbsp\;&nbsp\;&nbsp\;&nbsp\;&nbsp\;&nbsp\;&nbsp\;&nbsp\;&nbsp\;&nbsp\;&nbsp\;&nbsp\;&nbsp\;&nbsp\;&nbsp\;&nbsp\;&nbsp\;&nbsp\;&nbsp\;&nbsp\;&nbsp\;&nbsp\;&nbsp\;&nbsp\;&nbsp\;&nbsp\;&nbsp\;&nbsp\;&nbsp\;&nbsp\;&nbsp\;<strong><em>&nbsp\;</em></strong>&nbsp\;&nbsp\;&nbsp\;&nbsp\;?&nbsp\;&nbsp\;&nbsp\;&nbsp\;?<strong><em>Recruiting for Results</em></strong> - The Hiring Process:<br />\nUsing <strong>LinkedIn</strong> to find and retain the right employees\, advertising job orders\,<br />\nreviewing resumes\, interviews\, new hire forms to<br />\n<strong>ensuring a<br />\nReturn on Investment for NEO (New Hire Orientation)</strong><br />\n&nbsp\;<br />\n<strong><em>Managing Within the Law</em></strong> -&nbsp\;Red Flags to watch out for\, MUST have policies and record retention<br />\n&nbsp\;<br />\n<strong><em>The importance of the HR Audit</em></strong>&hellip\; and what to do with it once you conduct the audit.&nbsp\;<br />\n&nbsp\;<br />\n<strong><em>Performance Management</em></strong> - Cut the emotion out!&nbsp\;&nbsp\; It&rsquo\;s not personal its business.&nbsp\;&nbsp\; Coaching\, Developing\, Counseling\, Documenting\, Disciplining\, Delegating and the dreaded termination of employees.&nbsp\; Does it really have to end this way??<br />\n&nbsp\;<br />\n<strong><em>Leave of Absence</em></strong>- Employee tells you they &ldquo\;may&rdquo\; need to go out on leave&hellip\;now what?&nbsp\; Family Medical Leave vs. Non-Family Medical Leave.<br />\n&nbsp\;<br />\n<strong><em>Communication</em></strong> <strong><em>/ Conflict Resolution</em></strong>- Take the &ldquo\;sting out of your words&rdquo\; and effectively Communicate\; keys to retaining your most important assets&hellip\; your employees.<br />\n&nbsp\;<br />\n<strong><em>I am a manager\, now what?</em></strong>&nbsp\; Bridging the gap when employees are promoted within.&nbsp\;<br />\n&nbsp\;<br />\n<strong>Delivery Method:&nbsp\; </strong>Instructor-led classroom setting. &nbsp\;&nbsp\;Presenting this program will be various Industry experts<strong> including Employment Attorneys\, LinkedIn Social Media experts\, Dr. Keith Miller\, Heather McCloskey\, CEO of McCloskey Partners\, Bridgette Drelling\, PHR\, SHRM-CP HRBP of McCloskey Partners. </strong><br />\n&nbsp\;<br />\n<strong>This training has been approved for the following accreditation: HRCI /&nbsp\;</strong><strong>SHRM /&nbsp\;</strong><strong>CLE&nbsp\;</strong><br />\n&nbsp\;
LOCATION:Normandy Farms 1401 Morris Rd\, Blue Bell\, PA 19422
UID:e.2385.6650
SEQUENCE:3
DTSTAMP:20260421T190530Z
URL:https://business.chambergmc.org/events/details/mccloskey-partner-s-2018-hr-boot-camp-05-10-2018-6650
END:VEVENT

END:VCALENDAR
