BEGIN:VCALENDAR
VERSION:2.0
PRODID:-//ChamberMaster//Event Calendar 2.0//EN
METHOD:PUBLISH
X-PUBLISHED-TTL:P3D
REFRESH-INTERVAL:P3D
CALSCALE:GREGORIAN
BEGIN:VEVENT
DTSTART;VALUE=DATE:20181115
DTEND;VALUE=DATE:20181116
TRANSP:TRANSPARENT
X-MICROSOFT-CDO-ALLDAYEVENT:TRUE
SUMMARY:McCloskey Partners\, LLC Presents HR BootCamp
DESCRIPTION:Back by popular demand\, on  Nov 15\, 2018\, McCloskey Partners\, LLC is offering Crash Course   HR BOOTCAMP!\n\n\n\nIn attendance will be business owners\, professionals who handle HR as one of their varied responsibilities\, HR employees and managers that in addition to their other tasks handle HR.\n\nSign Up Today!\n\nThis BootCamp covers the following areas and much more:\n\nEmployee Engagement Strategy (Don't have one? YOU need one or top talent will go elsewhere): Are your employees engaged?\n\nGetting it Right and Recruiting for Results - The Hiring Process\n\nManaging Within the Law - Red Flags to watch out for\, MUST have policies and record retention\n\nPolicy! Policy! Policy! ~ Employee Handbook: The importance of the Employee Handbook/ Policies in minimizing risks.\n\nI am a manager\, now what? Leveraging internal relationships and building trust and respect as a leader: You are a manager  Now WHAT? What is the difference between managing a team and leading a team. Relationships at work  the transition from a coworker to a manager. Learning to delegate\n\nSensitivity Awareness & #MeToo\n\nPerformance Management - Cut the emotion out! It's not personal its business. Coaching\, Developing\, Counseling\, Documenting\, Disciplining\, Delegating and the dreaded termination of employees. Does it really have to end this way??\n\nBenefit Plan Models/ Options: Be in the know! Self-funding\, Direct\, Reference Pricing and much much more.\n\nLeave of Absence- Employee tells you they "may" need to go out on leave now what? Family Medical Leave vs. Non-Family Medical Leave.\n\nCommunication / Conflict Resolution- Take the "sting out of your words" and effectively Communicate\; keys to retaining your most important assets  your employees.\n\n \n\nDelivery Method: Instructor led- classroom setting. Presenting this program will be various Industry experts including Employment Attorneys\, Benefits Experts\, Dr. Keith Miller\, Heather McCloskey\, CEO of McCloskey Partners\, Bridgette Drelling\, PHR\, SHRM-CP HRBP of McCloskey Partners.\n\n  \n\nHRCI/SHRM/CLE Credits\n\nThis program has been submitted for certification credits.\n\nSign up today!
X-ALT-DESC;FMTTYPE=text/html:<strong><em><span style="color:#3288CF"><span style="font-family:inherit"><span style="font-size:14.0pt">Back by popular demand</span></span></span></em></strong><strong><span style="color:#3288CF"><span style="font-family:arial\,sans-serif"><span style="font-size:14.0pt">\, on&nbsp\; </span></span></span></strong><strong><span style="color:#3288CF"><span style="font-family:inherit"><span style="font-size:14.0pt">Nov 15\, 2018</span></span></span></strong><strong><span style="color:#3288CF"><span style="font-family:arial\,sans-serif"><span style="font-size:14.0pt">\, McCloskey Partners\, LLC is offering&nbsp\;</span></span></span></strong><strong><span style="color:#3288CF"><span style="font-family:inherit"><span style="font-size:14.0pt">Crash Course &ndash\; HR BOOTCAMP!</span></span></span></strong><br />\n<br />\n<span style="color:#666666"><span style="font-size:12.0pt">In attendance will be business owners\, professionals who handle HR as one of their varied responsibilities\, HR employees and managers that in addition to their other tasks handle HR.</span></span><br />\n<span style="color:#3288CF"><span style="font-size:18.5pt">Sign Up Today!</span></span><br />\n<span style="font-size:14px"><span style="font-size:16px"><span style="color:#666666">This BootCamp covers the following areas and much more:</span></span><br />\n<strong><span style="color:#666666">Employee Engagement Strategy</span></strong><span style="color:#666666">&nbsp\;(Don&#39\;t have one? YOU need one or top talent will go elsewhere): Are your employees engaged?</span><br />\n<strong><span style="color:#666666">Getting it Right and Recruiting for Results</span></strong><span style="color:#666666">&nbsp\;- The Hiring Process</span><br />\n<strong><span style="color:#666666">Managing Within the Law&nbsp\;</span></strong><span style="color:#666666">- Red Flags to watch out for\, MUST have policies and record retention</span><br />\n<strong><span style="color:#666666">Policy! Policy! Policy!</span></strong><span style="color:#666666">&nbsp\;~ Employee Handbook: The importance of the Employee Handbook/ Policies in minimizing risks.</span><br />\n<strong><span style="color:#666666">I am a manager\, now what?&nbsp\;</span></strong><span style="color:#666666">Leveraging internal relationships and building trust and respect as a leader: You are a manager&hellip\; Now WHAT? What is the difference between managing a team and leading a team. Relationships at work&hellip\; the transition from a coworker to a manager. Learning to delegate</span><br />\n<strong><span style="color:#666666">Sensitivity Awareness &amp\; #MeToo</span></strong><br />\n<strong><span style="color:#666666">Performance Management</span></strong><span style="color:#666666">&nbsp\;- Cut the emotion out! It&rsquo\;s not personal its business. Coaching\, Developing\, Counseling\, Documenting\, Disciplining\, Delegating and the dreaded termination of employees. Does it really have to end this way??</span><br />\n<strong><span style="color:#666666">Benefit Plan Models/ Options:&nbsp\;</span></strong><span style="color:#666666">Be in the know! Self-funding\, Direct\, Reference Pricing and much much more.</span><br />\n<strong><span style="color:#666666">Leave of Absence- Employee tells you they &ldquo\;may&rdquo\; need to go out on leave&hellip\;now what?</span></strong><span style="color:#666666">&nbsp\;Family Medical Leave vs. Non-Family Medical Leave.</span><br />\n<strong><span style="color:#666666">Communication / Conflict Resolution</span></strong><span style="color:#666666">- Take the &ldquo\;sting out of your words&rdquo\; and effectively Communicate\; keys to retaining your most important assets&hellip\; your employees.</span><br />\n&nbsp\;<br />\n<strong><span style="color:#666666">Delivery Method:</span></strong><span style="color:#666666">&nbsp\;Instructor led- classroom setting. Presenting this program will be various Industry experts including Employment Attorneys\, Benefits Experts\, Dr. Keith Miller\, Heather McCloskey\, CEO of McCloskey Partners\, Bridgette Drelling\, PHR\, SHRM-CP HRBP of McCloskey Partners.</span></span><br />\n&nbsp\;&nbsp\;<br />\n<span style="color:#3288CF"><span style="font-size:18.5pt">HRCI/SHRM/CLE Credits</span></span><br />\n<span style="color:#666666"><span style="font-size:12.0pt">This program has been submitted for certification credits.</span></span><br />\n<span style="color:#3288CF"><span style="font-size:18.5pt">Sign up today!</span></span><br />\n&nbsp\;
LOCATION:HR Bootcamp Marriott Courtyard Lansdale 1737 Sumneytown Pike\, Lansdale\, PA 19446
UID:e.2385.8044
SEQUENCE:3
DTSTAMP:20260422T040850Z
URL:https://business.chambergmc.org/events/details/mccloskey-partners-llc-presents-hr-bootcamp-8044
END:VEVENT

END:VCALENDAR
