BEGIN:VCALENDAR
VERSION:2.0
PRODID:-//ChamberMaster//Event Calendar 2.0//EN
METHOD:PUBLISH
X-PUBLISHED-TTL:P3D
REFRESH-INTERVAL:P3D
CALSCALE:GREGORIAN
BEGIN:VEVENT
DTSTART:20180519T130000Z
DTEND:20180519T160000Z
X-MICROSOFT-CDO-ALLDAYEVENT:FALSE
SUMMARY:McCloskey Partners - Recruiting Blitz
DESCRIPTION:During this time\, you will have the opportunity to speak with our talented recruiting staff to help you find the right fit!  \n\n			Don't miss this opportunity to find your next dream job!\n\n			 \n\n			McCloskey Partners will provide refreshments and assorted breakfast items.\n		\n	\n\n\n \nPlease bring a few copies of your current resume.
X-ALT-DESC;FMTTYPE=text/html:<table align="left" cellpadding="0" cellspacing="0">\n	<tbody>\n		<tr>\n			<td style="vertical-align:top"><span style="font-family:times new roman"><span style="font-size:14.0pt">During this time\, you will have the opportunity to speak with our talented recruiting staff to help you find the right fit!&nbsp\; </span><br />\n			<span style="font-size:14.0pt">Don&rsquo\;t miss this opportunity to find your next dream job!</span><br />\n			&nbsp\;<br />\n			<span style="font-size:14.0pt">McCloskey Partners will provide refreshments and assorted breakfast items.</span></span></td>\n		</tr>\n	</tbody>\n</table>\n\n<div>&nbsp\;</div>\n<span style="font-family:times new roman"><span style="font-size:14.0pt">Please bring a few copies of your current resume.&nbsp\;&nbsp\;</span></span>
LOCATION:66 South County Line Rd 2nd Floor Souderton\, PA 18964
UID:e.2385.6661
SEQUENCE:3
DTSTAMP:20260421T190243Z
URL:https://business.chambergmc.org/events/details/mccloskey-partners-recruiting-blitz-05-19-2018-6661
END:VEVENT

END:VCALENDAR
