BEGIN:VCALENDAR
VERSION:2.0
PRODID:-//ChamberMaster//Event Calendar 2.0//EN
METHOD:PUBLISH
X-PUBLISHED-TTL:P3D
REFRESH-INTERVAL:P3D
CALSCALE:GREGORIAN
BEGIN:VEVENT
DTSTART:20181006T120000Z
DTEND:20181006T170000Z
X-MICROSOFT-CDO-ALLDAYEVENT:FALSE
SUMMARY:Mental Health Symposium
DESCRIPTION:Join us for a half-day event hosting community members and esteemed guests on critical mental health topics. Expert speakers from the mental health community will share insight on topics including substance abuse\, anxiety and caregiver support\, as well as how social media can impact mental health. The interactive sessions allow participants an opportunity to ask questions\, engage with mental health professionals and get local resources. Registration required. Free\n\nEvent sponsored by the Village Improvement Association of Doylestown.\n\nSpeakers & Topics \n\n  Opening \n\nDonna Duffy-Bell\, MA\, CPRP\, CAADC\, Bucks County Dept. of Mental Health/ Developmental Programs \n\n\n\n  Substance Abuse/Opioid Epidemic \n\nBrenda Foley\, MD\, FACEP\, Assistant Medical Director\, Doylestown Health Emergency Department \n\n\n\n  Caregiver Support \n\nAmy Tielemans\, MBA\, LMFT\, Amy Tielemans & Associates \n\n\n\n  Integrative Medicine for Mental Health \n\nJulia Helstrom\, DO\, Doylestown Health Urgent Care and Bucks County Center for Integrative Medicine \n\n\n\n  Social Media's Impact on Mental Wellness \n\nJames Mast\, MA\, Psychotherapist\, Penn Foundation \n\n\n\n  Managing Your Anxiety \n\nMarjorie Morgan\, Associate Executive Director\, Outpatient Services\, Lenape Valley Foundation \n\n\n\n  Movement for Mental Health \n\nTheresa Moore\, LMT\, RMP\, RYT\, CPD\, Peaceful Journeys \n\n\n\n  Closing \n\nMatt Weintraub\, District Attorney
X-ALT-DESC;FMTTYPE=text/html:<p>Join us for a half-day event hosting community members and esteemed guests on critical mental health topics. Expert speakers from the mental health community will share insight on topics including substance abuse\, anxiety and caregiver support\, as well as how social media can impact mental health. The interactive sessions allow participants an opportunity to ask questions\, engage with mental health professionals and get local resources. Registration required. Free</p>\n\n<p>Event sponsored by the Village Improvement Association of Doylestown.</p>\n\n<p>Speakers &amp\; Topics&nbsp\;<br />\n&bull\; Opening&nbsp\;<br />\nDonna Duffy-Bell\, MA\, CPRP\, CAADC\, Bucks County Dept. of Mental Health/ Developmental Programs&nbsp\;<br />\n<br />\n&bull\; Substance Abuse/Opioid Epidemic&nbsp\;<br />\nBrenda Foley\, MD\, FACEP\, Assistant Medical Director\, Doylestown Health Emergency Department&nbsp\;<br />\n<br />\n&bull\; Caregiver Support&nbsp\;<br />\nAmy Tielemans\, MBA\, LMFT\, Amy Tielemans &amp\; Associates&nbsp\;<br />\n<br />\n&bull\; Integrative Medicine for Mental Health&nbsp\;<br />\nJulia Helstrom\, DO\, Doylestown Health Urgent Care and Bucks County Center for Integrative Medicine&nbsp\;<br />\n<br />\n&bull\; Social Media&rsquo\;s Impact on Mental Wellness&nbsp\;<br />\nJames Mast\, MA\, Psychotherapist\, Penn Foundation&nbsp\;<br />\n<br />\n&bull\; Managing Your Anxiety&nbsp\;<br />\nMarjorie Morgan\, Associate Executive Director\, Outpatient Services\, Lenape Valley Foundation&nbsp\;<br />\n<br />\n&bull\; Movement for Mental Health&nbsp\;<br />\nTheresa Moore\, LMT\, RMP\, RYT\, CPD\, Peaceful Journeys&nbsp\;<br />\n<br />\n&bull\; Closing&nbsp\;<br />\nMatt Weintraub\, District Attorney&nbsp\;</p>\n
LOCATION:Health and Wellness Center VIA Auditorium 847 Easton Road Warrington\, PA 18976
UID:e.2385.8005
SEQUENCE:3
DTSTAMP:20260422T013824Z
URL:https://business.chambergmc.org/events/details/mental-health-symposium-8005
END:VEVENT

END:VCALENDAR
