BEGIN:VCALENDAR
VERSION:2.0
PRODID:-//ChamberMaster//Event Calendar 2.0//EN
METHOD:PUBLISH
X-PUBLISHED-TTL:P3D
REFRESH-INTERVAL:P3D
CALSCALE:GREGORIAN
BEGIN:VEVENT
DTSTART:20250630T170000Z
DTEND:20250630T230000Z
X-MICROSOFT-CDO-ALLDAYEVENT:FALSE
SUMMARY:Merck Sharp & Dohme Annual Charity Golf Outing
DESCRIPTION:Join us for a day of golf\, camaraderie\, and giving back at the MSDFCU Annual Charity Golf Outing! This exciting event at the beautiful Sandy Run Country Club will support the New Britain Charitable Foundation (NBCF). Become a sponsor or a golfer. Learn More:
X-ALT-DESC;FMTTYPE=text/html:<br />\nJoin us for a day of golf\, camaraderie\, and giving back at the MSDFCU Annual Charity Golf Outing! This exciting event at the beautiful Sandy Run Country Club will support the New Britain Charitable Foundation (NBCF). Become a sponsor or a golfer. Learn More:
LOCATION:Sandy Run Country Club 200 E Valley Green Rd Oreland\, PA 19075
UID:e.2385.12226
SEQUENCE:3
DTSTAMP:20260420T204218Z
URL:https://business.chambergmc.org/events/details/merck-sharp-dohme-annual-charity-golf-outing-12226
END:VEVENT

END:VCALENDAR
