BEGIN:VCALENDAR
VERSION:2.0
PRODID:-//ChamberMaster//Event Calendar 2.0//EN
METHOD:PUBLISH
X-PUBLISHED-TTL:P3D
REFRESH-INTERVAL:P3D
CALSCALE:GREGORIAN
BEGIN:VEVENT
DTSTART:20210408T220000Z
DTEND:20210408T233000Z
X-MICROSOFT-CDO-ALLDAYEVENT:FALSE
SUMMARY:MercyTalk: Health Equity in the Time of COVID-19
DESCRIPTION:The past year has been uniquely difficult for people around the world and in our country. While everyone has been affected by the pandemic\, some communities have experienced negative health impacts at disproportionate rates. Join Gwynedd Mercy University and our Director of Public Health\, Sharla Willis\, for a discussion considering these health disparities\, why they exist\, and what steps we can take to achieve health equity. MercyTalks are sponsored by GMercyU's School of Business & Education and the Office of Diversity\, Equity\, and Inclusion. It is open to the public and no prior registration is required. Join by Zoom: https://gmercyu.zoom.us/j/91660595712?pwd=dTBOaWh4TFF5U0p0VW92eTdYQ1pEUT09
X-ALT-DESC;FMTTYPE=text/html:The past year has been uniquely difficult for people around the world and in our country. While everyone has been affected by the pandemic\, some communities have experienced negative health impacts at disproportionate rates. Join Gwynedd Mercy University and our Director of Public Health\, Sharla Willis\, for a discussion considering these health disparities\, why they exist\, and what steps we can take to achieve health equity. MercyTalks are sponsored by GMercyU&#39\;s School of Business &amp\; Education and the Office of Diversity\, Equity\, and Inclusion. It is open to the public and no prior registration is required. Join by Zoom: https://gmercyu.zoom.us/j/91660595712?pwd=dTBOaWh4TFF5U0p0VW92eTdYQ1pEUT09
LOCATION:Virtual - Zoom
UID:e.2385.11062
SEQUENCE:3
DTSTAMP:20260422T171820Z
URL:https://business.chambergmc.org/events/details/mercytalk-health-equity-in-the-time-of-covid-19-11062
END:VEVENT

END:VCALENDAR
