BEGIN:VCALENDAR
VERSION:2.0
PRODID:-//ChamberMaster//Event Calendar 2.0//EN
METHOD:PUBLISH
X-PUBLISHED-TTL:P3D
REFRESH-INTERVAL:P3D
CALSCALE:GREGORIAN
BEGIN:VEVENT
DTSTART:20191217T233000Z
DTEND:20191218T020000Z
X-MICROSOFT-CDO-ALLDAYEVENT:FALSE
SUMMARY:Mexican Posada
DESCRIPTION:Join us to celebrate our Christmas holidays at El Sarape Blue Bell. Tuesday Dec 17th from 6:30pm-9pm. Come learn about our Mexican Posada traditions while you enjoy our food\, drinks You are welcome to wear your ugly Christmas sweater.
X-ALT-DESC;FMTTYPE=text/html:<span style="color:rgb(29\, 33\, 41)\; font-family:helvetica\,arial\,sans-serif\; font-size:14px">Join us to celebrate our Christmas holidays at El Sarape Blue Bell. Tuesday Dec 17th from 6:30pm-9pm. Come learn about our Mexican Posada traditions while you enjoy our food\, drinks You are welcome to wear your ugly Christmas sweater.</span>
LOCATION:El Sarape\, Blue Bell
UID:e.2385.10160
SEQUENCE:3
DTSTAMP:20260423T144652Z
URL:https://business.chambergmc.org/events/details/mexican-posada-10160
END:VEVENT

END:VCALENDAR
