BEGIN:VCALENDAR
VERSION:2.0
PRODID:-//ChamberMaster//Event Calendar 2.0//EN
METHOD:PUBLISH
X-PUBLISHED-TTL:P3D
REFRESH-INTERVAL:P3D
CALSCALE:GREGORIAN
BEGIN:VEVENT
DTSTART:20171225T230000Z
DTEND:20171226T010000Z
X-MICROSOFT-CDO-ALLDAYEVENT:FALSE
SUMMARY:Mindfulness You Can Use
DESCRIPTION:Begin the week mindfully... set the tone\n\nAnchor your week with a guided Mindful Meditation from 6:00 pm till 6:30 pm every Monday night. \n\nThe offering changes each week -- Loving-Kindness Meditation\, Candle Flame Meditation\, Sacred Object Meditation - and more. Check HERE for our calendar and descriptions.  \n\nAND start planting seeds  with Mindfulness You Can Use\n\nJoin us as we explore how you can "Get Your 'But' Out of the Way" (the words we use matter) or "Is THAT Your Porcupine?" (Dealing with prickly people).  Check HERE to learn more about these fun\, upbeat and offbeat sessions - offered every Monday night from 7:00 - 8:00 pm.  \n\nEver wonder why you act the way you do? Are you curious about how you might approach something in your life a little differently? With the intent of stimulating your thinking and offering a different perspective\, each workshop explores and applies a learning from positive psychology\, mindfulness\, and other related fields. Tools and strategies for positive growth are offered in a way that is fun and engaging.  \n\nTHIS IS YOUR LIFE.  BE PRESENT FOR IT.
X-ALT-DESC;FMTTYPE=text/html:<h2 style="text-align:center"><span style="font-size:24px"><strong>Begin the week mindfully... set the tone</strong></span></h2>\n\n<h2><em><span style="font-size:22px"><span style="color:rgb(75\, 0\, 130)"><span style="font-family:comic sans ms\,cursive">Anchor your week with a&nbsp\;<u>guided Mindful Meditation</u>&nbsp\;from 6:00 pm till 6:30 pm every Monday night.&nbsp\;</span></span></span></em></h2>\n\n<p><em><span style="color:rgb(75\, 0\, 130)"><span style="font-size:18px"><span style="font-family:comic sans ms\,cursive">The offering changes each week -- Loving-Kindness Meditation\, Candle Flame Meditation\, Sacred Object Meditation - and more.&nbsp\;</span></span><span style="font-family:comic sans ms\,cursive\; font-size:18px">Check&nbsp\;</span></span><strong><a href="https://whynotsprout.com/the-calendar/" style="transition: 300ms\; font-family: &quot\;comic sans ms&quot\;\, cursive\; font-size: 18px\; text-decoration-line: none !important\; outline: none !important\;"><span style="color:rgb(75\, 0\, 130)">HERE</span></a></strong><span style="color:rgb(75\, 0\, 130)"><span style="font-family:comic sans ms\,cursive\; font-size:18px">&nbsp\;for our calendar and descriptions.&nbsp\;&nbsp\;</span></span></em></p>\n\n<h2 style="font-style:italic !important"><span style="font-size:22px"><strong><span style="color:rgb(0\, 128\, 0)"><span style="font-family:comic sans ms\,cursive">AND start planting seeds&hellip\; with&nbsp\;<u>Mindfulness You Can Use</u></span></span></strong></span></h2>\n\n<p><em><span style="color:rgb(71\, 122\, 38)">Join us as we explore how you can &quot\;<u>Get Your &#39\;But&#39\; Out of the Way</u>&quot\;&nbsp\;(the words we use matter) or &quot\;<u>Is THAT Your Porcupine</u>?&quot\; (Dealing with prickly people).&nbsp\; Check&nbsp\;<a href="https://whynotsprout.com/mindfulness-classes/" style="transition: 300ms\; text-decoration-line: none !important\; outline: none !important\;">HERE&nbsp\;</a>to learn more about these fun\, upbeat and offbeat sessions - offered every Monday night from 7:00 - 8:00 pm.&nbsp\;&nbsp\;</span></em></p>\n\n<p><em><span style="color:rgb(71\, 122\, 38)">Ever wonder why you act the way you do?&nbsp\;<strong><span style="color:rgb(71\, 122\, 38)">Are you curious about how you might approach something in your life a little differently?</span></strong>&nbsp\;With the intent of stimulating your thinking and offering a different perspective\, each workshop explores and applies a learning from positive psychology\, mindfulness\, and other related fields. Tools and strategies for positive growth are offered in a way that is fun and engaging.&nbsp\;&nbsp\;</span></em></p>\n\n<p><span style="font-size:24px"><em>THIS IS YOUR LIFE.&nbsp\; BE PRESENT FOR IT.</em></span></p>\n
LOCATION:Why Not Sprout?! 4039 Skippack Pike Skippack PA 19474
UID:e.2385.2908
SEQUENCE:3
DTSTAMP:20260421T122515Z
URL:https://business.chambergmc.org/events/details/mindfulness-you-can-use-12-25-2017-2908
END:VEVENT

END:VCALENDAR
