BEGIN:VCALENDAR
VERSION:2.0
PRODID:-//ChamberMaster//Event Calendar 2.0//EN
METHOD:PUBLISH
X-PUBLISHED-TTL:P3D
REFRESH-INTERVAL:P3D
CALSCALE:GREGORIAN
BEGIN:VEVENT
DTSTART:20190406T130000Z
DTEND:20190406T160000Z
X-MICROSOFT-CDO-ALLDAYEVENT:FALSE
SUMMARY:Montgomery County Wellness Expo
DESCRIPTION:19th Annual Montgomery County Wellness Expo\n\nEmpowering Healhy Living\n\n\n\nJoin us for a morning of Free health screenings\, wellness information and local community resources.\n\n\n\nGiveaways - Demonstrations - Guest Speakers\n\n\n\nFurst 100 guests to register at mc3.edu/wellness will receive a free gift!\n\n\n\nHosted by:\n\nRotary Club of Blue bell\n\nEinstein Medical Cener Montgomery \n\nMontgomery County Community College
X-ALT-DESC;FMTTYPE=text/html:19th Annual Montgomery County Wellness Expo<br />\n<em>Empowering Healhy Living</em><br />\n<br />\nJoin us for a morning of Free health screenings\, wellness information and local community resources.<br />\n<br />\nGiveaways - Demonstrations - Guest Speakers<br />\n<br />\nFurst 100 guests to register at mc3.edu/wellness will receive a free gift!<br />\n<br />\n<strong>Hosted by:</strong><br />\nRotary Club of Blue bell<br />\nEinstein Medical Cener Montgomery&nbsp\;<br />\nMontgomery County Community College
LOCATION:Montgomery Coubty Community College Health Sciences Center\, Blue Bell Campus mc3.edu/wellness
UID:e.2385.8676
SEQUENCE:3
DTSTAMP:20260422T094456Z
URL:https://business.chambergmc.org/events/details/montgomery-county-wellness-expo-8676
END:VEVENT

END:VCALENDAR
