BEGIN:VCALENDAR
VERSION:2.0
PRODID:-//ChamberMaster//Event Calendar 2.0//EN
METHOD:PUBLISH
X-PUBLISHED-TTL:P3D
REFRESH-INTERVAL:P3D
CALSCALE:GREGORIAN
BEGIN:VEVENT
DTSTART:20180513T153000Z
DTEND:20180513T180000Z
X-MICROSOFT-CDO-ALLDAYEVENT:FALSE
SUMMARY:Mother's Day Brunch
DESCRIPTION:Mother's Day Brunch. Brunch menu created by our Chef Kyle Fry including Omelette bar\, pancake bar and frittata's paired with salads\, tea sandwiches and bottomless Mimosa Bar!! This is a real treat for Mother's everywhere! Reservations required. 267-640-9159. $59.99 per person for adults and $16.99 per person for kids.. .
X-ALT-DESC;FMTTYPE=text/html:Mother&#39\;s Day Brunch. Brunch menu created by our Chef Kyle Fry including Omelette bar\, pancake bar and frittata&#39\;s paired with salads\, tea sandwiches and bottomless Mimosa Bar!! This is a real treat for Mother&#39\;s everywhere! Reservations required. 267-640-9159. $59.99 per person for adults and $16.99 per person for kids.. .
LOCATION:Cardinal Hollow Winery 1830 West Point Pike Lansdale\, PA 19446
UID:e.2385.6647
SEQUENCE:3
DTSTAMP:20260421T190530Z
URL:https://business.chambergmc.org/events/details/mother-s-day-brunch-05-13-2018-6647
END:VEVENT

END:VCALENDAR
