BEGIN:VCALENDAR
VERSION:2.0
PRODID:-//ChamberMaster//Event Calendar 2.0//EN
METHOD:PUBLISH
X-PUBLISHED-TTL:P3D
REFRESH-INTERVAL:P3D
CALSCALE:GREGORIAN
BEGIN:VEVENT
DTSTART:20180513T150000Z
DTEND:20180513T180000Z
X-MICROSOFT-CDO-ALLDAYEVENT:FALSE
SUMMARY:Mother's Day Brunch at Stone & Key Cellars
DESCRIPTION:Celebrate Mom with us! Join us for a buffet Brunch in the winery\, beautifully dressed by our community partners AtoZ Party Rental. Sunday May 13th 11am   2pm Space is limited! Call to reserve your spot today\, 215-855-4567 $49.99 per person (includes one mimosa) or $59.99 (includes bottomless mimosas) $19.99 for children under 10 years old
X-ALT-DESC;FMTTYPE=text/html:Celebrate Mom with us! Join us for a buffet Brunch in the winery\, beautifully dressed by our community partners AtoZ Party Rental. Sunday May 13th 11am &ndash\; 2pm Space is limited! Call to reserve your spot today\, 215-855-4567 $49.99 per person (includes one mimosa) or $59.99 (includes bottomless mimosas) $19.99 for children under 10 years old
LOCATION:Stone & Key Cellars 435 Doylestown Rd\, Montgomeryville\, PA 18936
UID:e.2385.6664
SEQUENCE:3
DTSTAMP:20260421T190418Z
URL:https://business.chambergmc.org/events/details/mother-s-day-brunch-at-stone-key-cellars-6664
END:VEVENT

END:VCALENDAR
