BEGIN:VCALENDAR
VERSION:2.0
PRODID:-//ChamberMaster//Event Calendar 2.0//EN
METHOD:PUBLISH
X-PUBLISHED-TTL:P3D
REFRESH-INTERVAL:P3D
CALSCALE:GREGORIAN
BEGIN:VEVENT
DTSTART:20180323T230000Z
DTEND:20180324T020000Z
X-MICROSOFT-CDO-ALLDAYEVENT:FALSE
SUMMARY:Movie Night at the Winery
DESCRIPTION:Movie and Dinner at the Winery . Movie admission is FREE. Movie time 7:30. Optional Pasta Bar Dinner $15 per person starting at 7 pm. Join us for food\, fun and family........ Movie is "Bottleshock"
X-ALT-DESC;FMTTYPE=text/html:Movie and Dinner at the Winery . Movie admission is FREE. Movie time 7:30. Optional Pasta Bar Dinner $15 per person starting at 7 pm. Join us for food\, fun and family........ Movie is &quot\;Bottleshock&quot\;
LOCATION:Cardinal Hollow Winery\, 1830 West Point Pike\, Lansdale\, PA 19446
UID:e.2385.3260
SEQUENCE:3
DTSTAMP:20260421T174823Z
URL:https://business.chambergmc.org/events/details/movie-night-at-the-winery-03-23-2018-3260
END:VEVENT

END:VCALENDAR
