BEGIN:VCALENDAR
VERSION:2.0
PRODID:-//ChamberMaster//Event Calendar 2.0//EN
METHOD:PUBLISH
X-PUBLISHED-TTL:P3D
REFRESH-INTERVAL:P3D
CALSCALE:GREGORIAN
BEGIN:VEVENT
DTSTART:20180622T223000Z
DTEND:20180623T013000Z
X-MICROSOFT-CDO-ALLDAYEVENT:FALSE
SUMMARY:Movie Night at the Winery
DESCRIPTION:Friday\, June 22\, 2018 -  Movie night at the Winery.  Join us for "Bottleshock"\, starring Alan Rickman and Chris Pine.  Admission for movie is Free.  Optional Pasta Bar dinner offered  before the movie at $15 per           person. Movie starts at 7 pm\, dinner at 6:30.  Reservations are required. 267-640-9159
X-ALT-DESC;FMTTYPE=text/html:Friday\, June 22\, 2018 -&nbsp\; Movie night at the Winery.&nbsp\; Join us for &quot\;Bottleshock&quot\;\, starring Alan Rickman and&nbsp\;Chris Pine.&nbsp\; Admission for movie is Free.&nbsp\; Optional Pasta Bar dinner offered&nbsp\; before the movie at $15 per&nbsp\; &nbsp\; &nbsp\; &nbsp\; &nbsp\; &nbsp\;person. Movie starts at 7 pm\, dinner at 6:30.&nbsp\; Reservations are required. 267-640-9159
LOCATION:Cardinal Hollow Winery 1830 West Point Pike Lansdale\, PA 19446
UID:e.2385.6678
SEQUENCE:3
DTSTAMP:20260421T202651Z
URL:https://business.chambergmc.org/events/details/movie-night-at-the-winery-6678
END:VEVENT

END:VCALENDAR
