BEGIN:VCALENDAR
VERSION:2.0
PRODID:-//ChamberMaster//Event Calendar 2.0//EN
METHOD:PUBLISH
X-PUBLISHED-TTL:P3D
REFRESH-INTERVAL:P3D
CALSCALE:GREGORIAN
BEGIN:VEVENT
DTSTART:20181202T170000Z
DTEND:20181202T181500Z
X-MICROSOFT-CDO-ALLDAYEVENT:FALSE
SUMMARY:Floral & Hardy of Skippack - Mrs. Claus Comes to Town
DESCRIPTION:Bring the kids for a visit with Mrs. Claus at Floral & Hardy!  Enjoy a story\, Santa's favorite cookies\, a craft and more   Ages 3 and up.  Cost is $15 per child.  This event will be held outside in our tent area so dress appropriately for the weather.\n\n\n\nPlease RSVP:http://floralandhardyofskippack.com/events/314/mrs-claus-comes-to-town/
X-ALT-DESC;FMTTYPE=text/html:<div style="text-align:justify"><span style="background-color:transparent\; color:rgb(0\, 0\, 0)\; font-family:lora\,times new roman\,times\,serif\; font-size:13px">Bring the kids for a visit with Mrs. Claus at Floral &amp\; Hardy!&nbsp\; Enjoy a story\, Santa&rsquo\;s favorite cookies\, a craft and more&hellip\;&nbsp\; Ages 3 and up.&nbsp\; Cost is $15 per child.&nbsp\; This event will be held outside in our tent area so dress appropriately for the weather.</span></div>\n\n<div style="text-align:justify"><br />\n<span style="background-color:transparent\; color:rgb(0\, 0\, 0)\; font-family:lora\,times new roman\,times\,serif\; font-size:13px">Please RSVP:<a href="http://floralandhardyofskippack.com/events/314/mrs-claus-comes-to-town/">http://floralandhardyofskippack.com/events/314/mrs-claus-comes-to-town/</a></span></div>\n
LOCATION:Floral & Hardy 4007 Skippack Pike Skippack\, PA 19474
UID:e.2385.8069
SEQUENCE:3
DTSTAMP:20260422T041011Z
URL:https://business.chambergmc.org/events/details/mrs-claus-comes-to-town-8069
END:VEVENT

END:VCALENDAR
