BEGIN:VCALENDAR
VERSION:2.0
PRODID:-//ChamberMaster//Event Calendar 2.0//EN
METHOD:PUBLISH
X-PUBLISHED-TTL:P3D
REFRESH-INTERVAL:P3D
CALSCALE:GREGORIAN
BEGIN:VEVENT
DTSTART:20190504T120000Z
DTEND:20190504T160000Z
X-MICROSOFT-CDO-ALLDAYEVENT:FALSE
SUMMARY:NAMIWalks Greater Philadelphia 5k Mental Health Awareness Walk
DESCRIPTION:In its 12th year\, NAMIWalks Greater Philadelphia invites you to take part in NAMI (National Alliance on Mental Illness) Montgomery County PA's largest mental health awareness and fundraising event. All proceeds will help us continue to provide much needed support\, education\, and advocacy services for families and individuals affected by mental illness and offered at no cost. Visit www.namimontcopa.org for further information on services and events.\n\nRegister today at www.namiwalks.org/greaterphiladelphia and join over 1\,200 participants as we walk to raise awareness\, celebrate hope & recovery and improve lives one step at a time. No cost to register. Sponsorship and Volunteer opportunities available.\n\nRegistration opens at 8am\, walk begins at 10am. Plenty of free activities for individuals\, families\, and four legged friends which will include: Craft Area with Peyton Hearts\, Face Painting\, pre-Walk Stretch with Aim High Studio\, Therapy Dog\, Music by SoundScape Entertainment\, Centre Square Fire Company Firetrucks\, Sponsor Information Tables with Giveaways\, Food Tent and Members from The Durning String Band in full Mummer Parade Costume will lead walkers to the starting line! A rain or shine event.\n\nHonored guests and local leaders\, State Representative Thomas Murt\, Ed.D\, 4th District of Pennsylvania Representative Madeleine Dean\, Montgomery Board of Commissioners Chair Valerie Arkoosh\, MD will share brief motivational remarks with walk day attendees.
X-ALT-DESC;FMTTYPE=text/html:<span style="font-size:12pt"><span style="font-family:arial\,sans-serif">In its 12<sup>th</sup> year\, NAMIWalks Greater Philadelphia invites you to take part in NAMI (National Alliance on Mental Illness) Montgomery County PA&rsquo\;s largest mental health awareness and fundraising event.</span></span> <span style="font-size:12pt"><span style="font-family:arial\,sans-serif">All proceeds will help us continue to provide much needed support\, education\, and advocacy services for families and individuals affected by mental illness and offered at no cost. Visit <strong><span style="color:windowtext"><a href="http://www.namimontcopa.org/"><span style="color:windowtext">www.namimontcopa.org</span></a></span></strong> for further information on services and events.</span></span><br />\n<span style="font-size:12pt"><span style="font-family:arial\,sans-serif">Register today at <strong><span style="color:windowtext"><a href="http://www.namiwalks.org/greaterphiladelphia%20and%20join%20over%201\,200"><span style="color:windowtext">www.namiwalks.org/greaterphiladelphia </span><span style="color:windowtext">and join over 1\,200</span></a></span></strong> participants as we walk to raise awareness\, celebrate hope &amp\; recovery and improve lives one step at a time. No cost to register. Sponsorship and Volunteer opportunities available.</span></span><br />\n<span style="font-size:12pt"><span style="font-family:arial\,sans-serif">Registration opens at 8am\, walk begins at 10am. Plenty of free activities for individuals\, families\, and four legged friends which will include: Craft Area with Peyton Hearts\, Face Painting\, pre-Walk Stretch with Aim High Studio\, Therapy Dog\, Music by SoundScape Entertainment\, </span></span><span style="font-size:12pt"><span style="font-family:arial\,sans-serif">Centre Square Fire Company</span></span>&nbsp\;<span style="font-size:12pt"><span style="font-family:arial\,sans-serif">Firetrucks\, Sponsor Information Tables with Giveaways\, Food Tent and Members from The Durning String Band in full Mummer Parade Costume will lead walkers to the starting line! A rain or shine event.</span></span><br />\n<span style="font-size:12pt"><span style="font-family:arial\,sans-serif">Honored guests and local leaders\, </span></span><span style="font-size:12pt"><span style="font-family:arial\,sans-serif">State Representative Thomas Murt\, Ed.D\, 4<sup>th</sup> District of Pennsylvania Representative Madeleine Dean\, Montgomery Board of Commissioners Chair Valerie Arkoosh\, MD will share brief motivational remarks with walk day attendees.</span></span><br />\n&nbsp\;
LOCATION:Montgomery County Community College
UID:e.2385.8646
SEQUENCE:3
DTSTAMP:20260422T112318Z
URL:https://business.chambergmc.org/events/details/namiwalks-greater-philadelphia-5k-mental-health-awareness-walk-8646
END:VEVENT

END:VCALENDAR
