BEGIN:VCALENDAR
VERSION:2.0
PRODID:-//ChamberMaster//Event Calendar 2.0//EN
METHOD:PUBLISH
X-PUBLISHED-TTL:P3D
REFRESH-INTERVAL:P3D
CALSCALE:GREGORIAN
BEGIN:VEVENT
DTSTART:20190711T150000Z
DTEND:20190712T020000Z
X-MICROSOFT-CDO-ALLDAYEVENT:FALSE
SUMMARY:National Mojito Day
DESCRIPTION:All Day 50% OFF (not on happy hour menu)\n\nFree Tasting 6pm-8pm Barcardi 4 year and 8 year.
X-ALT-DESC;FMTTYPE=text/html:<span style="color:rgb(29\, 16\, 44)\; font-family:museo sans w01\,helvetica neue\,helvetica\,helvetica\,arial\,sans-serif\; font-size:14px">All Day 50% OFF (not on happy hour menu)</span><br />\n<span style="color:rgb(29\, 16\, 44)\; font-family:museo sans w01\,helvetica neue\,helvetica\,helvetica\,arial\,sans-serif\; font-size:14px">Free Tasting 6pm-8pm Barcardi 4 year and 8 year.</span>
LOCATION:El Sarape 970 Dekalb Pike\, Ste 270 Blue Bell\, PA 19422
UID:e.2385.8827
SEQUENCE:3
DTSTAMP:20260422T140813Z
URL:https://business.chambergmc.org/events/details/national-mojito-day-8827
END:VEVENT

END:VCALENDAR
