BEGIN:VCALENDAR
VERSION:2.0
PRODID:-//ChamberMaster//Event Calendar 2.0//EN
METHOD:PUBLISH
X-PUBLISHED-TTL:P3D
REFRESH-INTERVAL:P3D
CALSCALE:GREGORIAN
BEGIN:VEVENT
DTSTART:20191220T160000Z
DTEND:20191221T020000Z
X-MICROSOFT-CDO-ALLDAYEVENT:FALSE
SUMMARY:National Sangria Day
DESCRIPTION:Join us for National Sangria Day on Dec 20th\n\nEnjoy 1/2 OFF Sangria's
X-ALT-DESC;FMTTYPE=text/html:<span style="color:rgb(29\, 33\, 41)\; font-family:helvetica\,arial\,sans-serif\; font-size:14px">Join us for National Sangria Day on Dec 20th</span><br />\n<span style="color:rgb(29\, 33\, 41)\; font-family:helvetica\,arial\,sans-serif\; font-size:14px">Enjoy 1/2 OFF Sangria&#39\;s</span>
LOCATION:El Sarape 970 Dekalb Pike Blue Bell\, PA
UID:e.2385.10159
SEQUENCE:3
DTSTAMP:20260423T144928Z
URL:https://business.chambergmc.org/events/details/national-sangria-day-10159
END:VEVENT

END:VCALENDAR
