BEGIN:VCALENDAR
VERSION:2.0
PRODID:-//ChamberMaster//Event Calendar 2.0//EN
METHOD:PUBLISH
X-PUBLISHED-TTL:P3D
REFRESH-INTERVAL:P3D
CALSCALE:GREGORIAN
BEGIN:VEVENT
DTSTART;VALUE=DATE:20201004
DTEND;VALUE=DATE:20201005
TRANSP:TRANSPARENT
X-MICROSOFT-CDO-ALLDAYEVENT:TRUE
SUMMARY:National Taco Day
DESCRIPTION:National Taco Day\n\non October\, 4th. \n\n \n\nTry our Seafood taco platter\n\n& mix taco platter. \n\n \n\nWe are Looking forward to seeing you!
X-ALT-DESC;FMTTYPE=text/html:<div style="text-align:center"><span style="color:rgb(0\, 0\, 0)\; font-family:verdana\,geneva\,sans-serif\; font-size:22px">National Taco Day</span></div>\n\n<div style="text-align:center"><span style="color:rgb(0\, 0\, 0)\; font-family:verdana\,geneva\,sans-serif\; font-size:22px">on October\, 4th.&nbsp\;</span></div>\n\n<div style="text-align:center">&nbsp\;</div>\n\n<div style="text-align:center"><span style="color:rgb(0\, 0\, 0)\; font-family:verdana\,geneva\,sans-serif\; font-size:22px">Try our Seafood taco platter</span></div>\n\n<div style="text-align:center"><span style="color:rgb(0\, 0\, 0)\; font-family:verdana\,geneva\,sans-serif\; font-size:22px">&amp\; mix taco platter.&nbsp\;</span></div>\n\n<div style="text-align:center">&nbsp\;</div>\n\n<div style="text-align:center"><span style="color:rgb(0\, 0\, 0)\; font-family:verdana\,geneva\,sans-serif\; font-size:22px">We are Looking forward to seeing you!</span></div>\n
LOCATION:70 DEKALB PIKE BLUE BELL\, PA 19422
UID:e.2385.10759
SEQUENCE:3
DTSTAMP:20260423T030730Z
URL:https://business.chambergmc.org/events/details/national-taco-day-10-04-2020-10759
END:VEVENT

END:VCALENDAR
