BEGIN:VCALENDAR
VERSION:2.0
PRODID:-//ChamberMaster//Event Calendar 2.0//EN
METHOD:PUBLISH
X-PUBLISHED-TTL:P3D
REFRESH-INTERVAL:P3D
CALSCALE:GREGORIAN
BEGIN:VEVENT
DTSTART:20191004T150000Z
DTEND:20191005T030000Z
X-MICROSOFT-CDO-ALLDAYEVENT:FALSE
SUMMARY:National Taco Day
DESCRIPTION:Join us for National Taco Day on October 4th!
X-ALT-DESC;FMTTYPE=text/html:Join us for National Taco Day on October 4th!
LOCATION:El Sarape Restaurant 970 Dekalb Pike\, Blue Bell
UID:e.2385.10113
SEQUENCE:3
DTSTAMP:20260423T182245Z
URL:https://business.chambergmc.org/events/details/national-taco-day-10113
END:VEVENT

END:VCALENDAR
