BEGIN:VCALENDAR
VERSION:2.0
PRODID:-//ChamberMaster//Event Calendar 2.0//EN
METHOD:PUBLISH
X-PUBLISHED-TTL:P3D
REFRESH-INTERVAL:P3D
CALSCALE:GREGORIAN
BEGIN:VEVENT
DTSTART:20190724T150000Z
DTEND:20190725T020000Z
X-MICROSOFT-CDO-ALLDAYEVENT:FALSE
SUMMARY:National Tequila Day
DESCRIPTION:National Tequila Day\n\nModels featuring Caladores Tequila\n\nFree tasting and a tequila cart will be around with shots at 80% off.
X-ALT-DESC;FMTTYPE=text/html:<p>National Tequila Day<br />\nModels featuring Caladores Tequila<br />\nFree tasting and a tequila cart will be around with shots at 80% off.</p>\n\n<div>&nbsp\;</div>\n
LOCATION:El Sarape 970 Dekalb Pike\, Ste 270 Blue Bell\, PA 19422
UID:e.2385.8826
SEQUENCE:3
DTSTAMP:20260422T140641Z
URL:https://business.chambergmc.org/events/details/national-tequila-day-8826
END:VEVENT

END:VCALENDAR
