BEGIN:VCALENDAR
VERSION:2.0
PRODID:-//ChamberMaster//Event Calendar 2.0//EN
METHOD:PUBLISH
X-PUBLISHED-TTL:P3D
REFRESH-INTERVAL:P3D
CALSCALE:GREGORIAN
BEGIN:VEVENT
DTSTART:20180308T233000Z
DTEND:20180309T013000Z
X-MICROSOFT-CDO-ALLDAYEVENT:FALSE
SUMMARY:Network & Socialize in Support of Domestic Violence Awareness
DESCRIPTION:Networking and Socializing event to support the Domestic Violence Program of the Women's Center of Montgomery County.  Celebration of International Women's Day!
X-ALT-DESC;FMTTYPE=text/html:Networking and Socializing event to support the Domestic Violence Program of the Women&#39\;s Center of Montgomery County.&nbsp\; Celebration of International Women&#39\;s Day!
LOCATION:Gypsy Blu Restaurant 34 East Butler Avenue Ambler\, PA
UID:e.2385.3252
SEQUENCE:3
DTSTAMP:20260421T175013Z
URL:https://business.chambergmc.org/events/details/network-socialize-in-support-of-domestic-violence-awareness-03-08-2018-3252
END:VEVENT

END:VCALENDAR
