BEGIN:VCALENDAR
VERSION:2.0
PRODID:-//ChamberMaster//Event Calendar 2.0//EN
METHOD:PUBLISH
X-PUBLISHED-TTL:P3D
REFRESH-INTERVAL:P3D
CALSCALE:GREGORIAN
BEGIN:VEVENT
DTSTART:20190221T180000Z
DTEND:20190221T190000Z
X-MICROSOFT-CDO-ALLDAYEVENT:FALSE
SUMMARY:New Year Retirement Plan Tune Up
DESCRIPTION:You're an expert in your line of work\, but did you know you're also expected to be an expert on your company retirement plan? It's a new year   and that brings a new opportunity to enhance your company's retirement plan. This is great for owners/CEOs\, CFOs\, controllers\, HR Directors and anyone in charge of company 401(k) plans. Join us as we provide guidance on:   Simplifying plan costs.   Reducing your liability.   Minimizing your audit risk. Our Webinars are complimentary! Register by 2/19/19. PA CPE credits available. Presented by: Greg Kepner\, AIF \, CRPS  Retirement Plan Consultant
X-ALT-DESC;FMTTYPE=text/html:You&#39\;re an expert in your line of work\, but did you know you&#39\;re also expected to be an expert on your company retirement plan? It&rsquo\;s a new year &mdash\; and that brings a new opportunity to enhance your company&rsquo\;s retirement plan. This is great for owners/CEOs\, CFOs\, controllers\, HR Directors and anyone in charge of company 401(k) plans. Join us as we provide guidance on: &middot\; Simplifying plan costs. &middot\; Reducing your liability. &middot\; Minimizing your audit risk. Our Webinars are complimentary! Register by 2/19/19. PA CPE credits available. Presented by: Greg Kepner\, AIF&reg\;\, CRPS&reg\; Retirement Plan Consultant
LOCATION:Webinar\, contact Greg Kepner at gkepner@tycorbenefit.com for dial in information
UID:e.2385.8605
SEQUENCE:3
DTSTAMP:20260422T065925Z
URL:https://business.chambergmc.org/events/details/new-year-retirement-plan-tune-up-8605
END:VEVENT

END:VCALENDAR
