BEGIN:VCALENDAR
VERSION:2.0
PRODID:-//ChamberMaster//Event Calendar 2.0//EN
METHOD:PUBLISH
X-PUBLISHED-TTL:P3D
REFRESH-INTERVAL:P3D
CALSCALE:GREGORIAN
BEGIN:VEVENT
DTSTART:20200101T010000Z
DTEND:20200101T063000Z
X-MICROSOFT-CDO-ALLDAYEVENT:FALSE
SUMMARY:New Year's Eve Party!
DESCRIPTION:Join us for New Year's Eve. \n\nWe will have a DJ and a special menu.
X-ALT-DESC;FMTTYPE=text/html:<span style="color:rgb(29\, 33\, 41)\; font-family:helvetica\,arial\,sans-serif\; font-size:14px">Join us for New Year&#39\;s Eve. </span><br />\n<span style="color:rgb(29\, 33\, 41)\; font-family:helvetica\,arial\,sans-serif\; font-size:14px">We will have a DJ and a special menu. </span>
LOCATION:El Sarape Mexican Restaurant 970 Dekalb Pike Blue Bell\, PA 19422
UID:e.2385.10055
SEQUENCE:3
DTSTAMP:20260423T131544Z
URL:https://business.chambergmc.org/events/details/new-year-s-eve-party-10055
END:VEVENT

END:VCALENDAR
