BEGIN:VCALENDAR
VERSION:2.0
PRODID:-//ChamberMaster//Event Calendar 2.0//EN
METHOD:PUBLISH
X-PUBLISHED-TTL:P3D
REFRESH-INTERVAL:P3D
CALSCALE:GREGORIAN
BEGIN:VEVENT
DTSTART:20190914T113000Z
DTEND:20190914T140000Z
X-MICROSOFT-CDO-ALLDAYEVENT:FALSE
SUMMARY:Nicole's Place 5K Fun Run
DESCRIPTION:In the event that you are local and want to get some extra exercise\, consider joining us on September 14th for a 5K Fun Run and Walk that will support the work we do at Nicole's Place. It's sure to be a fun morning with coffee\, donuts\, and our smiling faces at the finish line!
X-ALT-DESC;FMTTYPE=text/html:In the event that you are local and want to get some extra exercise\, consider joining us on September 14th for a 5K Fun Run and Walk that will support the work we do at Nicole&#39\;s Place. It&#39\;s sure to be a fun morning with coffee\, donuts\, and our smiling faces at the finish line!
LOCATION:Lower Moreland High School 555 Red Lion Road\, Huntingdon Valley\, PA 19006
UID:e.2385.10087
SEQUENCE:3
DTSTAMP:20260423T182214Z
URL:https://business.chambergmc.org/events/details/nicole-s-place-5k-fun-run-10087
END:VEVENT

END:VCALENDAR
