BEGIN:VCALENDAR
VERSION:2.0
PRODID:-//ChamberMaster//Event Calendar 2.0//EN
METHOD:PUBLISH
X-PUBLISHED-TTL:P3D
REFRESH-INTERVAL:P3D
CALSCALE:GREGORIAN
BEGIN:VEVENT
DTSTART:20191004T233000Z
DTEND:20191005T010000Z
X-MICROSOFT-CDO-ALLDAYEVENT:FALSE
SUMMARY:Night Life- Fall & Winter 1777
DESCRIPTION:What happened at the Wentz House as General Washington and his military family prepared for the Battle of Germantown? Explore night time during the autumn of 1777 and what it meant for residents of a home like the Wentz family's and the military travelling in the area. Tour is suitable for those ages 12+. Tours offered at 7:30 / 7:50 / 8:10 / 8:30 / 8:50\; Preregistration required. Ages:12 and up\; $2 per person suggested donation.
X-ALT-DESC;FMTTYPE=text/html:What happened at the Wentz House as General Washington and his military family prepared for the Battle of Germantown? Explore night time during the autumn of 1777 and what it meant for residents of a home like the Wentz family&rsquo\;s and the military travelling in the area. Tour is suitable for those ages 12+. Tours offered at 7:30 / 7:50 / 8:10 / 8:30 / 8:50\; Preregistration required. Ages:12 and up\; $2 per person suggested donation.
LOCATION:Peter Wentz Farmstead 2030 Shearer Road Lansdale\, PA 19446
UID:e.2385.8798
SEQUENCE:3
DTSTAMP:20260423T165634Z
URL:https://business.chambergmc.org/events/details/night-life-fall-winter-1777-8798
END:VEVENT

END:VCALENDAR
