BEGIN:VCALENDAR
VERSION:2.0
PRODID:-//ChamberMaster//Event Calendar 2.0//EN
METHOD:PUBLISH
X-PUBLISHED-TTL:P3D
REFRESH-INTERVAL:P3D
CALSCALE:GREGORIAN
BEGIN:VEVENT
DTSTART:20190412T150000Z
DTEND:20190420T210000Z
X-MICROSOFT-CDO-ALLDAYEVENT:FALSE
SUMMARY:North Penn Arts Alliance 2019 Spring Members Art Ahow
DESCRIPTION:View and purchase local work from more than 50 artists\, including photos\, paintings\, sculptures\, and more! Framed work and portfolio pieces available. Also we are raffling off many gift certificates donated by local businesses along with arts & craft items donated by our members. Trego Arts Center at St. Luke's UCC\, 125 N. Main Street in North Wales. Parking and entrance in rear off of Second Street.
X-ALT-DESC;FMTTYPE=text/html:View and purchase local work from more than 50 artists\, including photos\, paintings\, sculptures\, and more! Framed work and portfolio pieces available. Also we are raffling off many gift certificates donated by local businesses along with arts &amp\; craft items donated by our members. Trego Arts Center at St. Luke&#39\;s UCC\, 125 N. Main Street in North Wales. Parking and entrance in rear off of Second Street.
LOCATION:Trego Arts Center at St. Luke's UCC\, 125 N. Main Street in North Wales. Parking and entrance in rear off of Second Street.
UID:e.2385.8687
SEQUENCE:3
DTSTAMP:20260422T094823Z
URL:https://business.chambergmc.org/events/details/north-penn-arts-alliance-2019-spring-members-art-ahow-8687
END:VEVENT

END:VCALENDAR
