BEGIN:VCALENDAR
VERSION:2.0
PRODID:-//ChamberMaster//Event Calendar 2.0//EN
METHOD:PUBLISH
X-PUBLISHED-TTL:P3D
REFRESH-INTERVAL:P3D
CALSCALE:GREGORIAN
BEGIN:VEVENT
DTSTART:20190119T180000Z
DTEND:20190119T220000Z
X-MICROSOFT-CDO-ALLDAYEVENT:FALSE
SUMMARY:North Penn Arts Alliance Open House
DESCRIPTION:Want to find out about the North Penn Arts Alliance? A local Non-Profit Arts Organization that encourages Artists & Arts Enthusiasts to Learn\, Grow\, Network\, & Create. We are having an open house at our new home in North Wales. Visit us between the hours of 1 to 5pm.
X-ALT-DESC;FMTTYPE=text/html:Want to find out about the North Penn Arts Alliance? A local Non-Profit Arts Organization that encourages Artists &amp\; Arts Enthusiasts to Learn\, Grow\, Network\, &amp\; Create. We are having an open house at our new home in North Wales. Visit us between the hours of 1 to 5pm.
LOCATION:125 N. Main St.\, North Wales\, PA Entrance & Parking are behind the building/
UID:e.2385.8137
SEQUENCE:3
DTSTAMP:20260422T053552Z
URL:https://business.chambergmc.org/events/details/north-penn-arts-alliance-open-house-8137
END:VEVENT

END:VCALENDAR
