BEGIN:VCALENDAR
VERSION:2.0
PRODID:-//ChamberMaster//Event Calendar 2.0//EN
METHOD:PUBLISH
X-PUBLISHED-TTL:P3D
REFRESH-INTERVAL:P3D
CALSCALE:GREGORIAN
BEGIN:VEVENT
DTSTART:20180420T233000Z
DTEND:20180421T011500Z
X-MICROSOFT-CDO-ALLDAYEVENT:FALSE
SUMMARY:North Pennsmen Chorus with the Liberty Belles Chorus - Spring Show - Teach the World to Sing
DESCRIPTION:This is the North Pennsmen's Barbershop Chorus' Spring Show which also features the Liberty Belles.  The combined group of 80 singers will bring a delightful a cappella style of music to you\, your family and friends.  Songs will include:\n\nIf I Had My Way\, the 1940's gospel tune ... Up Above My Head\, Shenandoah\, You Took Advantage of Me and much much more.\n\n\n\nThe North Pennsmen and the Liberty Belles invite everyone to spread peace throughout the land with our fun and interactive Spring Show.  "Teach the World o Sing" will get you cheering\, clapping and singing as a member of the live studio audience for an a cappella telethon dedicated to bringing vocal harmony and a brighter future to the next generation.\n\nPlease join us as we go live.
X-ALT-DESC;FMTTYPE=text/html:This is the North Pennsmen&#39\;s Barbershop Chorus&#39\; Spring Show which also features the Liberty Belles.&nbsp\; The combined group of 80 singers will bring a delightful a cappella style of music to you\, your family and friends.&nbsp\; Songs will include:<br />\nIf I Had My Way\, the 1940&#39\;s gospel tune ... Up Above My Head\, Shenandoah\, You Took Advantage of Me and much much more.<br />\n<br />\nThe North Pennsmen and the Liberty Belles invite everyone to spread peace throughout the land with our fun and interactive Spring Show.&nbsp\; &quot\;Teach the World o Sing&quot\; will get you cheering\, clapping and singing as a member of the live studio audience for an a cappella telethon dedicated to bringing vocal harmony and a brighter future to the next generation.<br />\nPlease join us as we go live.
LOCATION:Pennridge High School 1228 North 5th Street\, Perkasie 18944
UID:e.2385.3266
SEQUENCE:3
DTSTAMP:20260421T175248Z
URL:https://business.chambergmc.org/events/details/north-pennsmen-chorus-with-the-liberty-belles-chorus-spring-show-teach-the-world-to-sing-04-20-2018-3266
END:VEVENT

END:VCALENDAR
