BEGIN:VCALENDAR
VERSION:2.0
PRODID:-//ChamberMaster//Event Calendar 2.0//EN
METHOD:PUBLISH
X-PUBLISHED-TTL:P3D
REFRESH-INTERVAL:P3D
CALSCALE:GREGORIAN
BEGIN:VEVENT
DTSTART:20180421T180000Z
DTEND:20180421T194000Z
X-MICROSOFT-CDO-ALLDAYEVENT:FALSE
SUMMARY:North Pennsmen Chorus with the Liberty Belles Chorus - Spring Show - Teach the World to Sing
DESCRIPTION:This is the North Pennsmen's Spring Show featuring both the North Pennsmen and the Liberty Belles.  Both ensembles will sing separately and together ... singing such beautiful songs as: Shenandoah\, If I Had My Way\, the 1940 gospel tune ... Up Above My Head\, You Took Advantage of Me\, Celebration and much\, much more.\n\nThe North Pennsmen and the LIberty Belles invite everyone to spread peace througout the land with our fun and interactive Show.  "Teach the World to Sing" will get you cheering\, clapping and singing as a member of the live studio audience for an a cappella telethon dedicated to bringing vocal harmony and a brighter future to the next gereration.\n\nPlease join us live at Show Time.\n\nYour family and friends will love it!
X-ALT-DESC;FMTTYPE=text/html:This is the North Pennsmen&#39\;s Spring Show featuring both the North Pennsmen and the Liberty Belles.&nbsp\; Both ensembles will sing separately and together ... singing such beautiful songs as: Shenandoah\, If I Had My Way\, the 1940 gospel tune ... Up Above My Head\, You Took Advantage of Me\, Celebration and much\, much more.<br />\nThe North Pennsmen and the LIberty Belles invite everyone to spread peace througout the land with our fun and interactive Show.&nbsp\; &quot\;Teach the World to Sing&quot\; will get you cheering\, clapping and singing as a member of the live studio audience for an a cappella telethon dedicated to bringing vocal harmony and a brighter future to the next gereration.<br />\nPlease join us live at Show Time.<br />\nYour family and friends will love it!
LOCATION:Pennridge High School 1228 North 5th Street Perkasie\, PA 18944
UID:e.2385.3268
SEQUENCE:3
DTSTAMP:20260421T175249Z
URL:https://business.chambergmc.org/events/details/north-pennsmen-chorus-with-the-liberty-belles-chorus-spring-show-teach-the-world-to-sing-04-21-2018-3268
END:VEVENT

END:VCALENDAR
